Workbook

Sheet CB FY23-01
B1: FY 2023 | C1: TOWN OF DOVER | D1: PAGE : | E1: 1
B2: July
A3: DATE | B3: DEPT. | C3: DESCRIPTION | E3: DEPOSIT | F3: DEBIT | G3: BALANCE | H3: CITIZENS DEPOSITORY | I3: B of A LUNCH | J3: CITIZENS PAYROLL | K3: BNY Mellon Trusts | L3: CITIZENS PERFORM BND | M3: UNIBANK MMDA | N3: UNIBANK CD | O3: UNIPAY | P3: UBS PAINE WEBBER Treas | Q3: UBS PW STABILIZATION | R3: CENTURY BANK | S3: ROCKLAND Trust MMDA | T3: Citizens Student Activity Svgs Acct | U3: Multi-Bank Securities | V3: WEBSTER BANK | W3: EASTERN BANK | X3: TRUST FUNDS BNY Mellon | Y3: Century Bank Lockbox | Z3: LendingClub Bank MMDA | AA3: Peoples United Bank (Belmont) | AB3: BNY Mellon OPEB Trust Fund | AC3: Rockland Trust Vendor | AD3: HarborOne Bank | AE3: Needham Bank - MMDA (Lunch) | AF3: Webster Bank CD | AG3: Needham Bank - MMA Tax PrePay | AH3: Needham Bank - CD | AI3: Cape Cod Coop | AJ3: Bartholemew & Co - OPEB Stabilization | AK3: BALANCE | AL3: DIFFERENCE
G4: 51774343 | H4: 916943.86 | I4: 688994.93 | J4: 0 | K4: 175505.08 | L4: 75450.05 | M4: 605489.75 | N4: 1218518.2 | O4: -34056.46 | P4: 772428.97 | Q4: 940279.34 | R4: 569109.53 | S4: 1149010.2 | T4: 13396.99 | U4: 5503037.6 | V4: 203704.04 | W4: 303596.45 | X4: 2252177.3 | Y4: 4653610.3 | Z4: 812616.52 | AA4: 256790.7 | AB4: 6593179.2 | AC4: -6905.28 | AD4: 267186.77 | AE4: 103066.07 | AF4: 1046680.8 | AG4: 1581703.9 | AH4: 324583.24 | AI4: 517714.38 | AJ4: =1743551.54+18526284.41 -> 20269836 | AK4: =SUM(H4:AJ4) -> 51773648 | AL4: =AK4-G4 -> -694.54
A5: 1 | B5: Warrants | C5: FY23 NCR | F5: 1585077 | G5: =G4+E5-F5 -> 50189266 | Y5: -1585077 | AK5: =AK4+SUM(H5:AJ5) -> 50188571 | AL5: =G5-AK5 -> 694.54
G6: =G5+E6-F6 -> 50189266 | AK6: =AK5+SUM(H6:AJ6) -> 50188571 | AL6: =G6-AK6 -> 694.54
A7: 6 | B7: Warrants | C7: P-26 | F7: 422731.46 | G7: =G6+E7-F7 -> 49766535 | H7: -407865.85 | AK7: =AK6+SUM(H7:AJ7) -> 49780706 | AL7: =G7-AK7 -> -14171.07
C8: G52A | F8: 224910.06 | G8: =G7+E8-F8 -> 49541624 | M8: -1598.78 | Y8: -223311.28 | AK8: =AK7+SUM(H8:AJ8) -> 49555796 | AL8: =G8-AK8 -> -14171.07
C9: Employee Insurance | E9: 20872.38 | G9: =G8+E9-F9 -> 49562497 | AK9: =AK8+SUM(H9:AJ9) -> 49555796 | AL9: =G9-AK9 -> 6701.31
C10: FSA | E10: 2919.38 | G10: =G9+E10-F10 -> 49565416 | V10: 2919.38 | AK10: =AK9+SUM(H10:AJ10) -> 49558715 | AL10: =G10-AK10 -> 6701.31
G11: =G10+E11-F11 -> 49565416 | AK11: =AK10+SUM(H11:AJ11) -> 49558715 | AL11: =G11-AK11 -> 6701.31
A12: 13 | B12: Warrants | C12: DSRSD Assess | F12: 1041399 | G12: =G11+E12-F12 -> 48524017 | Y12: -1041399 | AK12: =AK11+SUM(H12:AJ12) -> 48517316 | AL12: =G12-AK12 -> 6701.31
C13: DEBT Service | F13: 473133.34 | G13: =G12+E13-F13 -> 48050884 | M13: -473133.34 | AK13: =AK12+SUM(H13:AJ13) -> 48044183 | AL13: =G13-AK13 -> 6701.31
C14: FY22 G-52B | F14: 329799.38 | G14: =G13+E14-F14 -> 47721084 | H14: -53.03 | S14: -329746.35 | AK14: =AK13+SUM(H14:AJ14) -> 47714383 | AL14: =G14-AK14 -> 6701.31
C15: FY23 G-1 | F15: 901281.76 | G15: =G14+E15-F15 -> 46819803 | M15: -12.83 | S15: -22099.92 | V15: =-769.24 -> -769.24 | Y15: -872393 | AK15: =AK14+SUM(H15:AJ15) -> 46819108 | AL15: =G15-AK15 -> 694.54
G16: =G15+E16-F16 -> 46819803 | AK16: =AK15+SUM(H16:AJ16) -> 46819108 | AL16: =G16-AK16 -> 694.54
A17: 20 | B17: Warrants | C17: P-27 / P-1 | F17: 417196.89 | G17: =G16+E17-F17 -> 46402606 | H17: -400000 | AK17: =AK16+SUM(H17:AJ17) -> 46419108 | AL17: =G17-AK17 -> -16502.35
C18: FY23 G-2 | F18: 145220.01 | G18: =G17+E18-F18 -> 46257386 | H18: -2640.39 | M18: -1011.95 | S18: -144208.06 | AK18: =AK17+SUM(H18:AJ18) -> 46271248 | AL18: =G18-AK18 -> -13861.96
C19: FU22 G-52C | F19: 43152.2 | G19: =G18+E19-F19 -> 46214234 | H19: -40144.83 | M19: -3007.37 | AK19: =AK18+SUM(H19:AJ19) -> 46228096 | AL19: =G19-AK19 -> -13861.96
C20: Employee Insurance | E20: 20474.19 | G20: =G19+E20-F20 -> 46234708 | AK20: =AK19+SUM(H20:AJ20) -> 46228096 | AL20: =G20-AK20 -> 6612.23
C21: FSA | E21: 970 | G21: =G20+E21-F21 -> 46235678 | V21: 970 | AK21: =AK20+SUM(H21:AJ21) -> 46229066 | AL21: =G21-AK21 -> 6612.23
G22: =G21+E22-F22 -> 46235678 | AK22: =AK21+SUM(H22:AJ22) -> 46229066 | AL22: =G22-AK22 -> 6612.23
A23: 27 | B23: Warrants | C23: G-3 | F23: 283300.27 | G23: =G22+E23-F23 -> 45952378 | H23: -53174.27 | M23: -230126 | AK23: =AK22+SUM(H23:AJ23) -> 45945765 | AL23: =G23-AK23 -> 6612.23
G24: =G23+E24-F24 -> 45952378 | AK24: =AK23+SUM(H24:AJ24) -> 45945765 | AL24: =G24-AK24 -> 6612.23
A25: 6 | B25: Comm of Mass | C25: DE&SE DOENUT SL-113 | D25: 20181.28 | G25: =G24+E25-F25 -> 45952378 | AK25: =AK24+SUM(H25:AJ25) -> 45945765 | AL25: =G25-AK25 -> 6612.23
C26: DE&SE DOENUT SL-114 | D26: 243.65 | E26: =SUM(D25:D26) -> 20424.93 | G26: =G25+E26-F26 -> 45972802 | S26: 20424.93 | AK26: =AK25+SUM(H26:AJ26) -> 45966190 | AL26: =G26-AK26 -> 6612.23
G27: =G26+E27-F27 -> 45972802 | AK27: =AK26+SUM(H27:AJ27) -> 45966190 | AL27: =G27-AK27 -> 6612.23
A28: 12 | B28: Comm of Mass | C28: DE&SE SPED Alloc | D28: 1000 | G28: =G27+E28-F28 -> 45972802 | AK28: =AK27+SUM(H28:AJ28) -> 45966190 | AL28: =G28-AK28 -> 6612.23
C29: MDOT CMVI | D29: 210 | E29: =SUM(D28:D29) -> 1210 | G29: =G28+E29-F29 -> 45974012 | S29: 1210 | AK29: =AK28+SUM(H29:AJ29) -> 45967400 | AL29: =G29-AK29 -> 6612.23
G30: =G29+E30-F30 -> 45974012 | AK30: =AK29+SUM(H30:AJ30) -> 45967400 | AL30: =G30-AK30 -> 6612.23
A31: 15 | B31: Comm of Mass | C31: DOR CCC Facilities Grant - Fiber | D31: 113274 | E31: =SUM(D31) -> 113274 | G31: =G30+E31-F31 -> 46087286 | S31: 113274 | AK31: =AK30+SUM(H31:AJ31) -> 46080674 | AL31: =G31-AK31 -> 6612.23
G32: =G31+E32-F32 -> 46087286 | AK32: =AK31+SUM(H32:AJ32) -> 46080674 | AL32: =G32-AK32 -> 6612.23
A33: 18 | B33: Comm of Mass | C33: DE&SE SPED Alloc | D33: 55 | E33: =SUM(D33) -> 55 | G33: =G32+E33-F33 -> 46087341 | S33: 55 | AK33: =AK32+SUM(H33:AJ33) -> 46080729 | AL33: =G33-AK33 -> 6612.23
G34: =G33+E34-F34 -> 46087341 | AK34: =AK33+SUM(H34:AJ34) -> 46080729 | AL34: =G34-AK34 -> 6612.23
A35: 25 | B35: Comm of Mass | C35: MDOT Police Detail 22-107 | D35: 464 | E35: =SUM(D35) -> 464 | G35: =G34+E35-F35 -> 46087805 | S35: 464 | AK35: =AK34+SUM(H35:AJ35) -> 46081193 | AL35: =G35-AK35 -> 6612.23
G36: =G35+E36-F36 -> 46087805 | AK36: =AK35+SUM(H36:AJ36) -> 46081193 | AL36: =G36-AK36 -> 6612.23
A37: 26 | B37: Comm of Mass | C37: DE&SE SPED Early Childhood | D37: 5523 | G37: =G36+E37-F37 -> 46087805 | AK37: =AK36+SUM(H37:AJ37) -> 46081193 | AL37: =G37-AK37 -> 6612.23
C38: DE&SE IDEA | D38: 2393 | E38: =SUM(D37:D38) -> 7916 | G38: =G37+E38-F38 -> 46095721 | S38: 7916 | AK38: =AK37+SUM(H38:AJ38) -> 46089109 | AL38: =G38-AK38 -> 6612.23
G39: =G38+E39-F39 -> 46095721 | AK39: =AK38+SUM(H39:AJ39) -> 46089109 | AL39: =G39-AK39 -> 6612.23
A40: 27 | B40: Comm of Mass | C40: DFS FF Equipment grant | D40: 11218.36 | E40: =SUM(D40) -> 11218.36 | G40: =G39+E40-F40 -> 46106940 | S40: 11218.36 | AK40: =AK39+SUM(H40:AJ40) -> 46100328 | AL40: =G40-AK40 -> 6612.23
...

Sheet CB FY23-02
B1: FY 2023 | C1: TOWN OF DOVER | D1: PAGE : | E1: ='CB FY23-01'!E1+1 -> 2
B2: July
A3: DATE | B3: DEPT. | C3: DESCRIPTION | E3: DEPOSIT | F3: DEBIT | G3: BALANCE | H3: CITIZENS DEPOSITORY | I3: B of A LUNCH | J3: CITIZENS PAYROLL | K3: BNY Mellon Trusts | L3: CITIZENS PERFORM BND | M3: UNIBANK MMDA | N3: UNIBANK CD | O3: UNIPAY | P3: UBS PAINE WEBBER Treas | Q3: UBS PW STABILIZATION | R3: CENTURY BANK | S3: ROCKLAND Trust MMDA | T3: Citizens Student Activity Svgs Acct | U3: Multi-Bank Securities | V3: WEBSTER BANK | W3: EASTERN BANK | X3: TRUST FUNDS BNY Mellon | Y3: Century Bank Lockbox | Z3: LendingClub Bank MMDA | AA3: Peoples United Bank (Belmont) | AB3: BNY Mellon OPEB Trust Fund | AC3: Rockland Trust Vendor | AD3: HarborOne Bank | AE3: Needham Bank - MMDA (Lunch) | AF3: Webster Bank CD | AG3: Needham Bank - MMA Tax PrePay | AH3: Needham Bank - CD | AI3: Cape Cod Coop | AJ3: Bartholemew & Co - OPEB Stabilization | AK3: BALANCE | AL3: DIFFERENCE
G4: ='CB FY23-01'!G52 -> 46192550 | H4: ='CB FY23-01'!H52 -> 13065.49 | I4: ='CB FY23-01'!I52 -> 688994.93 | J4: ='CB FY23-01'!J52 -> 0 | K4: ='CB FY23-01'!K52 -> 175505.08 | L4: ='CB FY23-01'!L52 -> 75450.05 | M4: ='CB FY23-01'!M52 -> 381296.47 | N4: ='CB FY23-01'!N52 -> 1218518.2 | ... AL4: ='CB FY23-01'!AL52 -> 6612.23
A5: 25 | B5: Void Check | C5: #81571 Live Sax - lost | F5: -1640 | G5: =G4+E5-F5 -> 46194190 | AC5: 1640 | AK5: =AK4+SUM(H5:AJ5) -> 46187577 | AL5: =G5-AK5 -> 6612.23
G6: =G5+E6-F6 -> 46194190 | S6: 1640 | AC6: -1640 | AK6: =AK5+SUM(H6:AJ6) -> 46187577 | AL6: =G6-AK6 -> 6612.23
A7: 1 | B7: 22.07/23-656 | C7: 23 Re Tax | D7: 30947.22 | E7: =SUM(D7) -> 30947.22 | G7: =G6+E7-F7 -> 46225137 | O7: 30947.22 | AK7: =AK6+SUM(H7:AJ7) -> 46218525 | AL7: =G7-AK7 -> 6612.23
G8: =G7+E8-F8 -> 46225137 | AK8: =AK7+SUM(H8:AJ8) -> 46218525 | AL8: =G8-AK8 -> 6612.23
A9: 5 | B9: 22.07/23-657 | C9: 23RE Tax | D9: 17262.28 | E9: =SUM(D9) -> 17262.28 | G9: =G8+E9-F9 -> 46242399 | O9: 17262.28 | AK9: =AK8+SUM(H9:AJ9) -> 46235787 | AL9: =G9-AK9 -> 6612.23
G10: =G9+E10-F10 -> 46242399 | AK10: =AK9+SUM(H10:AJ10) -> 46235787 | AL10: =G10-AK10 -> 6612.23
A11: 1 | B11: 22.07/23-001 | C11: 22RE Tax | D11: -10180.2 | G11: =G10+E11-F11 -> 46242399 | AK11: =AK10+SUM(H11:AJ11) -> 46235787 | AL11: =G11-AK11 -> 6612.23
C12: 23RE Tax | D12: 10197.11 | G12: =G11+E12-F12 -> 46242399 | AK12: =AK11+SUM(H12:AJ12) -> 46235787 | AL12: =G12-AK12 -> 6612.23
C13: Penalty-22RE Int. | D13: -16.91 | E13: =SUM(D11:D13) -> -1.4566126e-13 | G13: =G12+E13-F13 -> 46242399 | AK13: =AK12+SUM(H13:AJ13) -> 46235787 | AL13: =G13-AK13 -> 6612.23
G14: =G13+E14-F14 -> 46242399 | AK14: =AK13+SUM(H14:AJ14) -> 46235787 | AL14: =G14-AK14 -> 6612.23
A15: 1 | B15: 22.07/23-002 | C15: 23RE Tax | D15: 123203.87 | E15: =SUM(D15) -> 123203.87 | G15: =G14+E15-F15 -> 46365603 | O15: 123203.87 | AK15: =AK14+SUM(H15:AJ15) -> 46358991 | AL15: =G15-AK15 -> 6612.23
G16: =G15+E16-F16 -> 46365603 | AK16: =AK15+SUM(H16:AJ16) -> 46358991 | AL16: =G16-AK16 -> 6612.23
A17: 1 | B17: 22.07/23-003 | C17: 23PP Tax | D17: 38.94 | G17: =G16+E17-F17 -> 46365603 | AK17: =AK16+SUM(H17:AJ17) -> 46358991 | AL17: =G17-AK17 -> 6612.23
C18: 23RE Tax | D18: 93589.52 | E18: =SUM(D17:D18) -> 93628.46 | G18: =G17+E18-F18 -> 46459231 | Y18: 93628.46 | AK18: =AK17+SUM(H18:AJ18) -> 46452619 | AL18: =G18-AK18 -> 6612.23
G19: =G18+E19-F19 -> 46459231 | AK19: =AK18+SUM(H19:AJ19) -> 46452619 | AL19: =G19-AK19 -> 6612.23
A20: 1 | B20: 22.07/23-004 | C20: 23RE Tax | D20: 42026.08 | E20: =SUM(D20) -> 42026.08 | G20: =G19+E20-F20 -> 46501258 | Y20: 42026.08 | AK20: =AK19+SUM(H20:AJ20) -> 46494645 | AL20: =G20-AK20 -> 6612.23
G21: =G20+E21-F21 -> 46501258 | AK21: =AK20+SUM(H21:AJ21) -> 46494645 | AL21: =G21-AK21 -> 6612.23
A22: 1 | B22: 22.07/23-005 | C22: 23PP Tax | D22: 81.12 | G22: =G21+E22-F22 -> 46501258 | AK22: =AK21+SUM(H22:AJ22) -> 46494645 | AL22: =G22-AK22 -> 6612.23
C23: 23RE Tax | D23: 74245.91 | E23: =SUM(D22:D23) -> 74327.03 | G23: =G22+E23-F23 -> 46575585 | Y23: 74327.03 | AK23: =AK22+SUM(H23:AJ23) -> 46568972 | AL23: =G23-AK23 -> 6612.23
G24: =G23+E24-F24 -> 46575585 | AK24: =AK23+SUM(H24:AJ24) -> 46568972 | AL24: =G24-AK24 -> 6612.23
A25: 5 | B25: 22.07/23-006 | C25: 23PP Tax | D25: 119.08 | G25: =G24+E25-F25 -> 46575585 | AK25: =AK24+SUM(H25:AJ25) -> 46568972 | AL25: =G25-AK25 -> 6612.23
C26: 23RE Tax | D26: 151352.96 | E26: =SUM(D25:D26) -> 151472.04 | G26: =G25+E26-F26 -> 46727057 | Y26: 151472.04 | AK26: =AK25+SUM(H26:AJ26) -> 46720444 | AL26: =G26-AK26 -> 6612.23
G27: =G26+E27-F27 -> 46727057 | AK27: =AK26+SUM(H27:AJ27) -> 46720444 | AL27: =G27-AK27 -> 6612.23
A28: 1 | B28: 22.07/23-007 | C28: 21MV Excise Tax | D28: 78.61 | G28: =G27+E28-F28 -> 46727057 | AK28: =AK27+SUM(H28:AJ28) -> 46720444 | AL28: =G28-AK28 -> 6612.23
C29: 22RE Tax | D29: 22177.62 | G29: =G28+E29-F29 -> 46727057 | AK29: =AK28+SUM(H29:AJ29) -> 46720444 | AL29: =G29-AK29 -> 6612.23
C30: 23RE Tax | D30: 80565.88 | G30: =G29+E30-F30 -> 46727057 | AK30: =AK29+SUM(H30:AJ30) -> 46720444 | AL30: =G30-AK30 -> 6612.23
C31: 22MV Excise Tax | D31: 12552.17 | G31: =G30+E31-F31 -> 46727057 | AK31: =AK30+SUM(H31:AJ31) -> 46720444 | AL31: =G31-AK31 -> 6612.23
C32: Penalty-21 MV Int. | D32: 3.77 | G32: =G31+E32-F32 -> 46727057 | AK32: =AK31+SUM(H32:AJ32) -> 46720444 | AL32: =G32-AK32 -> 6612.23
C33: Penalty-RE Int. | D33: 618.59 | G33: =G32+E33-F33 -> 46727057 | AK33: =AK32+SUM(H33:AJ33) -> 46720444 | AL33: =G33-AK33 -> 6612.23
C34: Penalty-MV Int./DMD Fees | D34: 139.92 | E34: =SUM(D28:D34) -> 116136.56 | G34: =G33+E34-F34 -> 46843193 | H34: 12774.47 | AK34: =AK33+SUM(H34:AJ34) -> 46733219 | AL34: =G34-AK34 -> 109974.32
G35: =G34+E35-F35 -> 46843193 | H35: 103362.09 | AK35: =AK34+SUM(H35:AJ35) -> 46836581 | AL35: =G35-AK35 -> 6612.23
G36: =G35+E36-F36 -> 46843193 | AK36: =AK35+SUM(H36:AJ36) -> 46836581 | AL36: =G36-AK36 -> 6612.23
A37: 7 | B37: Planning Board | C37: Application Fee | D37: 5000 | G37: =G36+E37-F37 -> 46843193 | AK37: =AK36+SUM(H37:AJ37) -> 46836581 | AL37: =G37-AK37 -> 6612.23
B38: Police Dept. FY23-1 | C38: Police Detail | D38: 928 | G38: =G37+E38-F38 -> 46843193 | AK38: =AK37+SUM(H38:AJ38) -> 46836581 | AL38: =G38-AK38 -> 6612.23
C39: Administrative Fee | D39: 92.8 | G39: =G38+E39-F39 -> 46843193 | AK39: =AK38+SUM(H39:AJ39) -> 46836581 | AL39: =G39-AK39 -> 6612.23
B40: Chickering 2022-6 | C40: Preschool Revenue (Checks) | D40: 17181.25 | G40: =G39+E40-F40 -> 46843193 | AK40: =AK39+SUM(H40:AJ40) -> 46836581 | AL40: =G40-AK40 -> 6612.23
...

Sheet CB FY23-03
B1: FY 2023 | C1: TOWN OF DOVER | D1: PAGE : | E1: ='CB FY23-02'!E1+1 -> 3
B2: July
A3: DATE | B3: DEPT. | C3: DESCRIPTION | E3: DEPOSIT | F3: DEBIT | G3: BALANCE | H3: CITIZENS DEPOSITORY | I3: B of A LUNCH | J3: CITIZENS PAYROLL | K3: BNY Mellon Trusts | L3: CITIZENS PERFORM BND | M3: UNIBANK MMDA | N3: UNIBANK CD | O3: UNIPAY | P3: UBS PAINE WEBBER Treas | Q3: UBS PW STABILIZATION | R3: CENTURY BANK | S3: ROCKLAND Trust MMDA | T3: Citizens Student Activity Svgs Acct | U3: Multi-Bank Securities | V3: WEBSTER BANK | W3: EASTERN BANK | X3: TRUST FUNDS BNY Mellon | Y3: Century Bank Lockbox | Z3: LendingClub Bank MMDA | AA3: Peoples United Bank (Belmont) | AB3: BNY Mellon OPEB Trust Fund | AC3: Rockland Trust Vendor | AD3: HarborOne Bank | AE3: Needham Bank - MMDA (Lunch) | AF3: Webster Bank CD | AG3: Needham Bank - MMA Tax PrePay | AH3: Needham Bank - CD | AI3: Cape Cod Coop | AJ3: Bartholemew & Co - OPEB Stabilization | AK3: BALANCE | AL3: DIFFERENCE
G4: ='CB FY23-02'!G52 -> 46870348 | H4: ='CB FY23-02'!H52 -> 156357.18 | I4: ='CB FY23-02'!I52 -> 688994.93 | J4: ='CB FY23-02'!J52 -> 0 | K4: ='CB FY23-02'!K52 -> 175505.08 | L4: ='CB FY23-02'!L52 -> 75450.05 | M4: ='CB FY23-02'!M52 -> 381296.47 | N4: ='CB FY23-02'!N52 -> 1218518.2 | ... AH4: ='CB FY23-02'!AH52 -> 324583.24 | AI4: ='CB FY23-02'!$AI$52 -> 517714.38 | AJ4: ='CB FY23-02'!$AJ$52 -> 20269836 | AK4: ='CB FY23-02'!AK52 -> 46863736 | AL4: ='CB FY23-02'!AL52 -> 6612.23
A5: 1 | B5: 22.07/23-008 | C5: 23RE Tax | D5: 10774.12 | E5: =SUM(D5) -> 10774.12 | G5: =G4+E5-F5 -> 46881122 | O5: 10774.12 | AK5: =AK4+SUM(H5:AJ5) -> 46874510 | AL5: =G5-AK5 -> 6612.23
G6: =G5+E6-F6 -> 46881122 | AK6: =AK5+SUM(H6:AJ6) -> 46874510 | AL6: =G6-AK6 -> 6612.23
A7: 1 | B7: 22.07/23-009 | C7: 22MV Excise Tax | D7: 82.82 | G7: =G6+E7-F7 -> 46881122 | AK7: =AK6+SUM(H7:AJ7) -> 46874510 | AL7: =G7-AK7 -> 6612.23
C8: Penalty-MV Int. | D8: 0.03 | E8: =SUM(D7:D8) -> 82.85 | G8: =G7+E8-F8 -> 46881205 | O8: 82.85 | AK8: =AK7+SUM(H8:AJ8) -> 46874593 | AL8: =G8-AK8 -> 6612.23
G9: =G8+E9-F9 -> 46881205 | AK9: =AK8+SUM(H9:AJ9) -> 46874593 | AL9: =G9-AK9 -> 6612.23
A10: 2 | B10: 22.07/23-010 | C10: 23RE Tax | D10: 15215.49 | E10: =SUM(D10) -> 15215.49 | G10: =G9+E10-F10 -> 46896421 | O10: 15215.49 | AK10: =AK9+SUM(H10:AJ10) -> 46889809 | AL10: =G10-AK10 -> 6612.23
G11: =G10+E11-F11 -> 46896421 | AK11: =AK10+SUM(H11:AJ11) -> 46889809 | AL11: =G11-AK11 -> 6612.23
A12: 2 | B12: 22.07/23-011 | C12: 22MV Excise Tax | D12: 10 | E12: =SUM(D12) -> 10 | G12: =G11+E12-F12 -> 46896431 | O12: 10 | AK12: =AK11+SUM(H12:AJ12) -> 46889819 | AL12: =G12-AK12 -> 6612.23
G13: =G12+E13-F13 -> 46896431 | AK13: =AK12+SUM(H13:AJ13) -> 46889819 | AL13: =G13-AK13 -> 6612.23
A14: 3 | B14: 22.07/23-012 | C14: 23RE Tax | D14: 13696.22 | E14: =SUM(D14) -> 13696.22 | G14: =G13+E14-F14 -> 46910127 | O14: 13696.22 | AK14: =AK13+SUM(H14:AJ14) -> 46903515 | AL14: =G14-AK14 -> 6612.23
G15: =G14+E15-F15 -> 46910127 | AK15: =AK14+SUM(H15:AJ15) -> 46903515 | AL15: =G15-AK15 -> 6612.23
A16: 4 | B16: 22.07/23-013 | C16: 23RE Tax | D16: 11191.39 | E16: =SUM(D16) -> 11191.39 | G16: =G15+E16-F16 -> 46921318 | O16: 11191.39 | AK16: =AK15+SUM(H16:AJ16) -> 46914706 | AL16: =G16-AK16 -> 6612.23
G17: =G16+E17-F17 -> 46921318 | AK17: =AK16+SUM(H17:AJ17) -> 46914706 | AL17: =G17-AK17 -> 6612.23
A18: 4 | B18: 22.07/23-014 | C18: 22MV Excise Tax | D18: 1038.22 | G18: =G17+E18-F18 -> 46921318 | AK18: =AK17+SUM(H18:AJ18) -> 46914706 | AL18: =G18-AK18 -> 6612.23
C19: Penalty-MV Int. | D19: 1.36 | E19: =SUM(D18:D19) -> 1039.58 | G19: =G18+E19-F19 -> 46922358 | O19: 1039.58 | AK19: =AK18+SUM(H19:AJ19) -> 46915746 | AL19: =G19-AK19 -> 6612.23
G20: =G19+E20-F20 -> 46922358 | AK20: =AK19+SUM(H20:AJ20) -> 46915746 | AL20: =G20-AK20 -> 6612.23
A21: 5 | B21: 22.07/23-015 | C21: 23RE Tax | D21: 22372.7 | E21: =SUM(D21) -> 22372.7 | G21: =G20+E21-F21 -> 46944731 | O21: 22372.7 | AK21: =AK20+SUM(H21:AJ21) -> 46938118 | AL21: =G21-AK21 -> 6612.23
G22: =G21+E22-F22 -> 46944731 | AK22: =AK21+SUM(H22:AJ22) -> 46938118 | AL22: =G22-AK22 -> 6612.23
A23: 5 | B23: 22.07/23-016 | C23: 22MV Tax | D23: 240.05 | G23: =G22+E23-F23 -> 46944731 | AK23: =AK22+SUM(H23:AJ23) -> 46938118 | AL23: =G23-AK23 -> 6612.23
C24: Penalty-MV Int. | D24: 0.39 | E24: =SUM(D23:D24) -> 240.44 | G24: =G23+E24-F24 -> 46944971 | O24: 240.44 | AK24: =AK23+SUM(H24:AJ24) -> 46938359 | AL24: =G24-AK24 -> 6612.23
G25: =G24+E25-F25 -> 46944971 | AK25: =AK24+SUM(H25:AJ25) -> 46938359 | AL25: =G25-AK25 -> 6612.23
A26: 6 | B26: 22.07/23-017 | C26: 23RE Tax | D26: 14809.91 | E26: =SUM(D26) -> 14809.91 | G26: =G25+E26-F26 -> 46959781 | O26: 14809.91 | AK26: =AK25+SUM(H26:AJ26) -> 46953169 | AL26: =G26-AK26 -> 6612.23
G27: =G26+E27-F27 -> 46959781 | AK27: =AK26+SUM(H27:AJ27) -> 46953169 | AL27: =G27-AK27 -> 6612.23
A28: 7 | B28: 22.07/23-018 | C28: 23RE Tax | D28: 29003.63 | E28: =SUM(D28) -> 29003.63 | G28: =G27+E28-F28 -> 46988785 | O28: 29003.63 | AK28: =AK27+SUM(H28:AJ28) -> 46982172 | AL28: =G28-AK28 -> 6612.23
G29: =G28+E29-F29 -> 46988785 | AK29: =AK28+SUM(H29:AJ29) -> 46982172 | AL29: =G29-AK29 -> 6612.23
A30: 7 | B30: 22.07/23-019 | C30: 23PP Tax | D30: 84.62 | G30: =G29+E30-F30 -> 46988785 | AK30: =AK29+SUM(H30:AJ30) -> 46982172 | AL30: =G30-AK30 -> 6612.23
C31: 23RE Tax | D31: 92373 | E31: =SUM(D30:D31) -> 92457.62 | G31: =G30+E31-F31 -> 47081242 | Y31: 92457.62 | AK31: =AK30+SUM(H31:AJ31) -> 47074630 | AL31: =G31-AK31 -> 6612.23
G32: =G31+E32-F32 -> 47081242 | AK32: =AK31+SUM(H32:AJ32) -> 47074630 | AL32: =G32-AK32 -> 6612.23
A33: 8 | B33: 22.07/23-020 | C33: 23RE Tax | D33: 60455.74 | E33: =SUM(D33) -> 60455.74 | G33: =G32+E33-F33 -> 47141698 | Y33: 60455.74 | AK33: =AK32+SUM(H33:AJ33) -> 47135086 | AL33: =G33-AK33 -> 6612.23
G34: =G33+E34-F34 -> 47141698 | AK34: =AK33+SUM(H34:AJ34) -> 47135086 | AL34: =G34-AK34 -> 6612.23
A35: 11 | B35: 22.07/23-021 | C35: 23RE Tax | D35: 117658.34 | E35: =SUM(D35) -> 117658.34 | G35: =G34+E35-F35 -> 47259356 | Y35: 117658.34 | AK35: =AK34+SUM(H35:AJ35) -> 47252744 | AL35: =G35-AK35 -> 6612.23
G36: =G35+E36-F36 -> 47259356 | AK36: =AK35+SUM(H36:AJ36) -> 47252744 | AL36: =G36-AK36 -> 6612.23
A37: 8 | B37: 22.07/23-023 | C37: 23PP Tax | D37: 38.94 | E37: =SUM(D37) -> 38.94 | G37: =G36+E37-F37 -> 47259395 | O37: 38.94 | AK37: =AK36+SUM(H37:AJ37) -> 47252783 | AL37: =G37-AK37 -> 6612.23
G38: =G37+E38-F38 -> 47259395 | AK38: =AK37+SUM(H38:AJ38) -> 47252783 | AL38: =G38-AK38 -> 6612.23
A39: 8 | B39: 22.07/23-024 | C39: 23RE Tax | D39: 19337.59 | E39: =SUM(D39) -> 19337.59 | G39: =G38+E39-F39 -> 47278733 | O39: 19337.59 | AK39: =AK38+SUM(H39:AJ39) -> 47272121 | AL39: =G39-AK39 -> 6612.23
G40: =G39+E40-F40 -> 47278733 | AK40: =AK39+SUM(H40:AJ40) -> 47272121 | AL40: =G40-AK40 -> 6612.23
...

Sheet CB FY23-04
B1: FY 2023 | C1: TOWN OF DOVER | D1: PAGE : | E1: ='CB FY23-03'!E1+1 -> 4
B2: July
A3: DATE | B3: DEPT. | C3: DESCRIPTION | E3: DEPOSIT | F3: DEBIT | G3: BALANCE | H3: CITIZENS DEPOSITORY | I3: B of A LUNCH | J3: CITIZENS PAYROLL | K3: BNY Mellon Trusts | L3: CITIZENS PERFORM BND | M3: UNIBANK MMDA | N3: UNIBANK CD | O3: UNIPAY | P3: UBS PAINE WEBBER Treas | Q3: UBS PW STABILIZATION | R3: CENTURY BANK | S3: ROCKLAND Trust MMDA | T3: Citizens Student Activity Svgs Acct | U3: Multi-Bank Securities | V3: WEBSTER BANK | W3: EASTERN BANK | X3: TRUST FUNDS BNY Mellon | Y3: Century Bank Lockbox | Z3: LendingClub Bank MMDA | AA3: Peoples United Bank (Belmont) | AB3: BNY Mellon OPEB Trust Fund | AC3: Rockland Trust Vendor | AD3: HarborOne Bank | AE3: Needham Bank - MMDA (Lunch) | AF3: Webster Bank CD | AG3: Needham Bank - MMA Tax PrePay | AH3: Needham Bank - CD | AI3: Cape Cod Coop | AJ3: Bartholemew & Co - OPEB Stabilization | AK3: BALANCE | AL3: DIFFERENCE
G4: ='CB FY23-03'!G52 -> 47338700 | H4: ='CB FY23-03'!H52 -> 156357.18 | I4: ='CB FY23-03'!I52 -> 688994.93 | J4: ='CB FY23-03'!J52 -> 0 | K4: ='CB FY23-03'!K52 -> 175505.08 | L4: ='CB FY23-03'!L52 -> 75450.05 | M4: ='CB FY23-03'!M52 -> 381296.47 | N4: ='CB FY23-03'!N52 -> 1218518.2 | ... AH4: ='CB FY23-03'!AH52 -> 324583.24 | AI4: ='CB FY23-03'!$AI$52 -> 517714.38 | AJ4: ='CB FY23-03'!$AJ$52 -> 20269836 | AK4: ='CB FY23-03'!AK52 -> 47332088 | AL4: ='CB FY23-03'!AL52 -> 6612.23
A5: 14 | B5: Board of Health 2023-02 | C5: Septic Revolving | D5: 1500 | G5: =G4+E5-F5 -> 47338700 | AK5: =AK4+SUM(H5:AJ5) -> 47332088 | AL5: =G5-AK5 -> 6612.23
B6: Board of Health 2023-03 | C6: Food Permits | D6: 1000 | G6: =G5+E6-F6 -> 47338700 | AK6: =AK5+SUM(H6:AJ6) -> 47332088 | AL6: =G6-AK6 -> 6612.23
B7: Board of Health 2023-04 | C7: Administrative Fees | D7: 500 | G7: =G6+E7-F7 -> 47338700 | AK7: =AK6+SUM(H7:AJ7) -> 47332088 | AL7: =G7-AK7 -> 6612.23
C8: Septic Revolving | D8: 2400 | G8: =G7+E8-F8 -> 47338700 | AK8: =AK7+SUM(H8:AJ8) -> 47332088 | AL8: =G8-AK8 -> 6612.23
C9: Perc/Deep Hole Revolving | D9: 450 | G9: =G8+E9-F9 -> 47338700 | AK9: =AK8+SUM(H9:AJ9) -> 47332088 | AL9: =G9-AK9 -> 6612.23
B10: Selectmen TR: FY22-9 | C10: Alcoholic Beverage License | D10: 275 | G10: =G9+E10-F10 -> 47338700 | AK10: =AK9+SUM(H10:AJ10) -> 47332088 | AL10: =G10-AK10 -> 6612.23
C11: Credit refund to Supplies, MISC. duplicate pmt. | D11: 400 | G11: =G10+E11-F11 -> 47338700 | AK11: =AK10+SUM(H11:AJ11) -> 47332088 | AL11: =G11-AK11 -> 6612.23
C12: Credit refund to Purchase of Prof. Services-Overpmt of invoice | D12: 243.75 | G12: =G11+E12-F12 -> 47338700 | AK12: =AK11+SUM(H12:AJ12) -> 47332088 | AL12: =G12-AK12 -> 6612.23
B13: Police Dept. FY23-2 | C13: Police Detail | D13: 11353.04 | G13: =G12+E13-F13 -> 47338700 | AK13: =AK12+SUM(H13:AJ13) -> 47332088 | AL13: =G13-AK13 -> 6612.23
C14: Administrative Fees | D14: 1073 | G14: =G13+E14-F14 -> 47338700 | AK14: =AK13+SUM(H14:AJ14) -> 47332088 | AL14: =G14-AK14 -> 6612.23
B15: Highway 2023-02 | C15: Rain Barrels | D15: 60 | G15: =G14+E15-F15 -> 47338700 | AK15: =AK14+SUM(H15:AJ15) -> 47332088 | AL15: =G15-AK15 -> 6612.23
C16: Pick-Up Truck (1/2 Load) | D16: 45 | G16: =G15+E16-F16 -> 47338700 | AK16: =AK15+SUM(H16:AJ16) -> 47332088 | AL16: =G16-AK16 -> 6612.23
C17: Mattresses | D17: 30 | G17: =G16+E17-F17 -> 47338700 | AK17: =AK16+SUM(H17:AJ17) -> 47332088 | AL17: =G17-AK17 -> 6612.23
B18: Building Dept. 2023-1 | C18: Misc. Rev-Gen. Fund. Refund from NFPA-Overpmt on FY23 dues for Felix Z. | D18: 175 | G18: =G17+E18-F18 -> 47338700 | AK18: =AK17+SUM(H18:AJ18) -> 47332088 | AL18: =G18-AK18 -> 6612.23
B19: Cemetery FY12 | C19: Burial | D19: 2250 | G19: =G18+E19-F19 -> 47338700 | AK19: =AK18+SUM(H19:AJ19) -> 47332088 | AL19: =G19-AK19 -> 6612.23
B20: Cemetery FY12 | C20: Sat./Sun./Holiday/Cremation | D20: 700 | G20: =G19+E20-F20 -> 47338700 | AK20: =AK19+SUM(H20:AJ20) -> 47332088 | AL20: =G20-AK20 -> 6612.23
B21: Conservation-Red Robin | C21: ConCom Red Robin Review Fees | D21: 5000 | G21: =G20+E21-F21 -> 47338700 | AK21: =AK20+SUM(H21:AJ21) -> 47332088 | AL21: =G21-AK21 -> 6612.23
B22: Conservation-Haven Manor | C22: ConcCom Haven Manor Review Fees | D22: 5000 | E22: =SUM(D5:D22) -> 32454.79 | G22: =G21+E22-F22 -> 47371155 | H22: 32454.79 | AK22: =AK21+SUM(H22:AJ22) -> 47364543 | AL22: =G22-AK22 -> 6612.23
G23: =G22+E23-F23 -> 47371155 | AK23: =AK22+SUM(H23:AJ23) -> 47364543 | AL23: =G23-AK23 -> 6612.23
A24: 14 | B24: 22.07/23-022 | C24: 21MV Excise Tax | D24: 770.66 | G24: =G23+E24-F24 -> 47371155 | AK24: =AK23+SUM(H24:AJ24) -> 47364543 | AL24: =G24-AK24 -> 6612.23
C25: Penalty-MV Int. | D25: 94 | G25: =G24+E25-F25 -> 47371155 | AK25: =AK24+SUM(H25:AJ25) -> 47364543 | AL25: =G25-AK25 -> 6612.23
C26: Penalty-MV DMD Fees | D26: 15 | E26: =SUM(D24:D26) -> 879.66 | G26: =G25+E26-F26 -> 47372035 | H26: 879.66 | AK26: =AK25+SUM(H26:AJ26) -> 47365423 | AL26: =G26-AK26 -> 6612.23
G27: =G26+E27-F27 -> 47372035 | AK27: =AK26+SUM(H27:AJ27) -> 47365423 | AL27: =G27-AK27 -> 6612.23
A28: 15 | B28: Building Dept: 2023-2CC | C28: Building permits-Paid by CC | D28: 534 | E28: =SUM(D28) -> 534 | G28: =G27+E28-F28 -> 47372569 | O28: 444 | AK28: =AK27+SUM(H28:AJ28) -> 47365867 | AL28: =G28-AK28 -> 6702.23
G29: =G28+E29-F29 -> 47372569 | O29: 90 | AK29: =AK28+SUM(H29:AJ29) -> 47365957 | AL29: =G29-AK29 -> 6612.23
G30: =G29+E30-F30 -> 47372569 | AK30: =AK29+SUM(H30:AJ30) -> 47365957 | AL30: =G30-AK30 -> 6612.23
A31: 15 | B31: 22.07/23-030 | C31: 23RE Tax | D31: 81465.01 | E31: =SUM(D31) -> 81465.01 | G31: =G30+E31-F31 -> 47454034 | O31: 81465.01 | AK31: =AK30+SUM(H31:AJ31) -> 47447422 | AL31: =G31-AK31 -> 6612.23
G32: =G31+E32-F32 -> 47454034 | AK32: =AK31+SUM(H32:AJ32) -> 47447422 | AL32: =G32-AK32 -> 6612.23
A33: 16 | B33: 22.07/23-031 | C33: 23RE Tax | D33: 8141.68 | E33: =SUM(D33) -> 8141.68 | G33: =G32+E33-F33 -> 47462175 | O33: 8141.68 | AK33: =AK32+SUM(H33:AJ33) -> 47455563 | AL33: =G33-AK33 -> 6612.23
G34: =G33+E34-F34 -> 47462175 | AK34: =AK33+SUM(H34:AJ34) -> 47455563 | AL34: =G34-AK34 -> 6612.23
A35: 17 | B35: 22.07/23-032 | C35: 23RE Tax | D35: 8541.42 | E35: =SUM(D35) -> 8541.42 | G35: =G34+E35-F35 -> 47470717 | O35: 8541.42 | AK35: =AK34+SUM(H35:AJ35) -> 47464105 | AL35: =G35-AK35 -> 6612.23
G36: =G35+E36-F36 -> 47470717 | AK36: =AK35+SUM(H36:AJ36) -> 47464105 | AL36: =G36-AK36 -> 6612.23
A37: 18 | B37: 22.07/23-033 | C37: 22MV Excise Tax | D37: 33.54 | G37: =G36+E37-F37 -> 47470717 | AK37: =AK36+SUM(H37:AJ37) -> 47464105 | AL37: =G37-AK37 -> 6612.23
C38: Penalty-MV Int. | D38: 0.2 | E38: =SUM(D37:D38) -> 33.74 | G38: =G37+E38-F38 -> 47470751 | O38: 33.74 | AK38: =AK37+SUM(H38:AJ38) -> 47464138 | AL38: =G38-AK38 -> 6612.23
G39: =G38+E39-F39 -> 47470751 | AK39: =AK38+SUM(H39:AJ39) -> 47464138 | AL39: =G39-AK39 -> 6612.23
A40: 18 | B40: 22.07/23-034 | C40: 23RE Tax | D40: 20179.26 | E40: =SUM(D40) -> 20179.26 | G40: =G39+E40-F40 -> 47490930 | O40: 20179.26 | AK40: =AK39+SUM(H40:AJ40) -> 47484318 | AL40: =G40-AK40 -> 6612.23
...

Sheet CB FY23-05
B1: FY 2023 | C1: TOWN OF DOVER | D1: PAGE : | E1: ='CB FY23-04'!E1+1 -> 5
B2: July
A3: DATE | B3: DEPT. | C3: DESCRIPTION | E3: DEPOSIT | F3: DEBIT | G3: BALANCE | H3: CITIZENS DEPOSITORY | I3: B of A LUNCH | J3: CITIZENS PAYROLL | K3: BNY Mellon Trusts | L3: CITIZENS PERFORM BND | M3: UNIBANK MMDA | N3: UNIBANK CD | O3: UNIPAY | P3: UBS PAINE WEBBER Treas | Q3: UBS PW STABILIZATION | R3: CENTURY BANK | S3: ROCKLAND Trust MMDA | T3: Citizens Student Activity Svgs Acct | U3: Multi-Bank Securities | V3: WEBSTER BANK | W3: EASTERN BANK | X3: TRUST FUNDS BNY Mellon | Y3: Century Bank Lockbox | Z3: LendingClub Bank MMDA | AA3: Peoples United Bank (Belmont) | AB3: BNY Mellon OPEB Trust Fund | AC3: Rockland Trust Vendor | AD3: HarborOne Bank | AE3: Needham Bank - MMDA (Lunch) | AF3: Webster Bank CD | AG3: Needham Bank - MMA Tax PrePay | AH3: Needham Bank - CD | AI3: Cape Cod Coop | AJ3: Bartholemew & Co - OPEB Stabilization | AK3: BALANCE | AL3: DIFFERENCE
A4: 21 | B4: Highway 2023-03 | C4: Rain Barrels | D4: 60 | G4: ='CB FY23-04'!G52 -> 47517501 | H4: ='CB FY23-04'!H52 -> 189691.63 | I4: ='CB FY23-04'!I52 -> 688994.93 | J4: ='CB FY23-04'!J52 -> 0 | K4: ='CB FY23-04'!K52 -> 175505.08 | L4: ='CB FY23-04'!L52 -> 75450.05 | M4: ='CB FY23-04'!M52 -> 381296.47 | N4: ='CB FY23-04'!N52 -> 1218518.2 | ... AH4: ='CB FY23-04'!AH52 -> 324583.24 | AI4: ='CB FY23-04'!$AI$52 -> 517714.38 | AJ4: ='CB FY23-04'!$AJ$52 -> 20269836 | AK4: ='CB FY23-04'!AK52 -> 47510889 | AL4: ='CB FY23-04'!AL52 -> 6612.23
C5: Pick-Up Truck (1/2 Load) | D5: 45 | G5: =G4+E5-F5 -> 47517501 | AK5: =AK4+SUM(H5:AJ5) -> 47510889 | AL5: =G5-AK5 -> 6612.23
C6: Mattresses | D6: 165 | G6: =G5+E6-F6 -> 47517501 | AK6: =AK5+SUM(H6:AJ6) -> 47510889 | AL6: =G6-AK6 -> 6612.23
B7: Town Clerk 2022-10 | C7: Dog Licenses | D7: 75 | G7: =G6+E7-F7 -> 47517501 | AK7: =AK6+SUM(H7:AJ7) -> 47510889 | AL7: =G7-AK7 -> 6612.23
C8: Birth Certificates | D8: 40 | G8: =G7+E8-F8 -> 47517501 | AK8: =AK7+SUM(H8:AJ8) -> 47510889 | AL8: =G8-AK8 -> 6612.23
C9: Death Certificates | D9: 50 | G9: =G8+E9-F9 -> 47517501 | AK9: =AK8+SUM(H9:AJ9) -> 47510889 | AL9: =G9-AK9 -> 6612.23
C10: Marriage Certificates | D10: 55 | G10: =G9+E10-F10 -> 47517501 | AK10: =AK9+SUM(H10:AJ10) -> 47510889 | AL10: =G10-AK10 -> 6612.23
C11: Registered Certificates | D11: 50 | G11: =G10+E11-F11 -> 47517501 | AK11: =AK10+SUM(H11:AJ11) -> 47510889 | AL11: =G11-AK11 -> 6612.23
C12: Sale of Publications | D12: 10 | G12: =G11+E12-F12 -> 47517501 | AK12: =AK11+SUM(H12:AJ12) -> 47510889 | AL12: =G12-AK12 -> 6612.23
C13: Other Receipts | D13: 75 | G13: =G12+E13-F13 -> 47517501 | AK13: =AK12+SUM(H13:AJ13) -> 47510889 | AL13: =G13-AK13 -> 6612.23
B14: Library 2023-01 | C14: Corp. Benefit Plans-Comm. Room Rental | D14: 250 | G14: =G13+E14-F14 -> 47517501 | AK14: =AK13+SUM(H14:AJ14) -> 47510889 | AL14: =G14-AK14 -> 6612.23
C15: Amelia Peabody Charitable Fund: Recast stone pony sculpture | D15: 6000 | G15: =G14+E15-F15 -> 47517501 | AK15: =AK14+SUM(H15:AJ15) -> 47510889 | AL15: =G15-AK15 -> 6612.23
B16: Board of Health 2023-06 | C16: Day Camp Licenses | D16: 100 | G16: =G15+E16-F16 -> 47517501 | AK16: =AK15+SUM(H16:AJ16) -> 47510889 | AL16: =G16-AK16 -> 6612.23
C17: Food Permits | D17: 200 | G17: =G16+E17-F17 -> 47517501 | AK17: =AK16+SUM(H17:AJ17) -> 47510889 | AL17: =G17-AK17 -> 6612.23
C18: Tobacco Permits | D18: 300 | E18: =SUM(D4:D18) -> 7475 | G18: =G17+E18-F18 -> 47524976 | H18: 7475 | AK18: =AK17+SUM(H18:AJ18) -> 47518364 | AL18: =G18-AK18 -> 6612.23
G19: =G18+E19-F19 -> 47524976 | AK19: =AK18+SUM(H19:AJ19) -> 47518364 | AL19: =G19-AK19 -> 6612.23
A20: 21 | B20: 22.07/23-038 | C20: 23RE Tax | D20: 19316.17 | E20: =SUM(D20) -> 19316.17 | G20: =G19+E20-F20 -> 47544292 | O20: 19316.17 | AK20: =AK19+SUM(H20:AJ20) -> 47537680 | AL20: =G20-AK20 -> 6612.23
G21: =G20+E21-F21 -> 47544292 | AK21: =AK20+SUM(H21:AJ21) -> 47537680 | AL21: =G21-AK21 -> 6612.23
A22: 22 | B22: 22.07/23-039 | C22: 23RE Tax | D22: 26841.68 | E22: =SUM(D22) -> 26841.68 | G22: =G21+E22-F22 -> 47571134 | O22: 26841.68 | AK22: =AK21+SUM(H22:AJ22) -> 47564522 | AL22: =G22-AK22 -> 6612.23
G23: =G22+E23-F23 -> 47571134 | AK23: =AK22+SUM(H23:AJ23) -> 47564522 | AL23: =G23-AK23 -> 6612.23
A24: 23 | B24: 22.07/23-040 | C24: 23RE Tax | D24: 12035.67 | E24: =SUM(D24) -> 12035.67 | G24: =G23+E24-F24 -> 47583169 | O24: 12035.67 | AK24: =AK23+SUM(H24:AJ24) -> 47576557 | AL24: =G24-AK24 -> 6612.23
G25: =G24+E25-F25 -> 47583169 | AK25: =AK24+SUM(H25:AJ25) -> 47576557 | AL25: =G25-AK25 -> 6612.23
A26: 24 | B26: 22.07/23-041 | C26: 23RE Tax | D26: 15383.9 | E26: =SUM(D26) -> 15383.9 | G26: =G25+E26-F26 -> 47598553 | O26: 15383.9 | AK26: =AK25+SUM(H26:AJ26) -> 47591941 | AL26: =G26-AK26 -> 6612.23
G27: =G26+E27-F27 -> 47598553 | AK27: =AK26+SUM(H27:AJ27) -> 47591941 | AL27: =G27-AK27 -> 6612.23
A28: 25 | B28: 22.07/23-042 | C28: 23RE Tax | D28: 30011.45 | E28: =SUM(D28) -> 30011.45 | G28: =G27+E28-F28 -> 47628565 | O28: 30011.45 | AK28: =AK27+SUM(H28:AJ28) -> 47621953 | AL28: =G28-AK28 -> 6612.23
G29: =G28+E29-F29 -> 47628565 | AK29: =AK28+SUM(H29:AJ29) -> 47621953 | AL29: =G29-AK29 -> 6612.23
A30: 26 | B30: 22.07/23-044 (LERETA) | C30: 23RE Tax | D30: 68920.26 | E30: =SUM(D30) -> 68920.26 | G30: =G29+E30-F30 -> 47697485 | H30: 68920.26 | AK30: =AK29+SUM(H30:AJ30) -> 47690873 | AL30: =G30-AK30 -> 6612.23
G31: =G30+E31-F31 -> 47697485 | AK31: =AK30+SUM(H31:AJ31) -> 47690873 | AL31: =G31-AK31 -> 6612.23
A32: 26 | B32: 22.07/23-045 | C32: 22RE Tax | D32: 4809.82 | G32: =G31+E32-F32 -> 47697485 | AK32: =AK31+SUM(H32:AJ32) -> 47690873 | AL32: =G32-AK32 -> 6612.23
C33: 23RE Tax | D33: 28223.29 | G33: =G32+E33-F33 -> 47697485 | AK33: =AK32+SUM(H33:AJ33) -> 47690873 | AL33: =G33-AK33 -> 6612.23
C34: Penalty-RE Int. | D34: 156.45 | E34: =SUM(D32:D34) -> 33189.56 | G34: =G33+E34-F34 -> 47730675 | O34: 33189.56 | AK34: =AK33+SUM(H34:AJ34) -> 47724062 | AL34: =G34-AK34 -> 6612.23
G35: =G34+E35-F35 -> 47730675 | AK35: =AK34+SUM(H35:AJ35) -> 47724062 | AL35: =G35-AK35 -> 6612.23
A36: 14 | B36: 22.07/23-046 | C36: 23PP Tax | D36: 79.92 | G36: =G35+E36-F36 -> 47730675 | AK36: =AK35+SUM(H36:AJ36) -> 47724062 | AL36: =G36-AK36 -> 6612.23
C37: 23RE Tax | D37: 107223.17 | E37: =SUM(D36:D37) -> 107303.09 | G37: =G36+E37-F37 -> 47837978 | Y37: 107303.09 | AK37: =AK36+SUM(H37:AJ37) -> 47831365 | AL37: =G37-AK37 -> 6612.23
G38: =G37+E38-F38 -> 47837978 | AK38: =AK37+SUM(H38:AJ38) -> 47831365 | AL38: =G38-AK38 -> 6612.23
A39: 15 | B39: 22.07/22-047 | C39: 23PP Tax | D39: 44.52 | G39: =G38+E39-F39 -> 47837978 | AK39: =AK38+SUM(H39:AJ39) -> 47831365 | AL39: =G39-AK39 -> 6612.23
C40: 23RE Tax | D40: 44841.11 | E40: =SUM(D39:D40) -> 44885.63 | G40: =G39+E40-F40 -> 47882863 | Y40: 44885.63 | AK40: =AK39+SUM(H40:AJ40) -> 47876251 | AL40: =G40-AK40 -> 6612.23
...

Sheet CB FY23-06
B1: FY 2023 | C1: TOWN OF DOVER | D1: PAGE : | E1: ='CB FY23-05'!E1+1 -> 6
B2: July
A3: DATE | B3: DEPT. | C3: DESCRIPTION | E3: DEPOSIT | F3: DEBIT | G3: BALANCE | H3: CITIZENS DEPOSITORY | I3: B of A LUNCH | J3: CITIZENS PAYROLL | K3: BNY Mellon Trusts | L3: CITIZENS PERFORM BND | M3: UNIBANK MMDA | N3: UNIBANK CD | O3: UNIPAY | P3: UBS PAINE WEBBER Treas | Q3: UBS PW STABILIZATION | R3: CENTURY BANK | S3: ROCKLAND Trust MMDA | T3: Citizens Student Activity Svgs Acct | U3: Multi-Bank Securities | V3: WEBSTER BANK | W3: EASTERN BANK | X3: TRUST FUNDS BNY Mellon | Y3: Century Bank Lockbox | Z3: LendingClub Bank MMDA | AA3: Peoples United Bank (Belmont) | AB3: BNY Mellon OPEB Trust Fund | AC3: Rockland Trust Vendor | AD3: HarborOne Bank | AE3: Needham Bank - MMDA (Lunch) | AF3: Webster Bank CD | AG3: Needham Bank - MMA Tax PrePay | AH3: Needham Bank - CD | AI3: Cape Cod Coop | AJ3: Bartholemew & Co - OPEB Stabilization | AK3: BALANCE | AL3: DIFFERENCE
G4: ='CB FY23-05'!G52 -> 48110203 | H4: ='CB FY23-05'!H52 -> 266086.89 | I4: ='CB FY23-05'!I52 -> 688994.93 | J4: ='CB FY23-05'!J52 -> 0 | K4: ='CB FY23-05'!K52 -> 175505.08 | L4: ='CB FY23-05'!L52 -> 75450.05 | M4: ='CB FY23-05'!M52 -> 381296.47 | N4: ='CB FY23-05'!N52 -> 1218518.2 | ... AH4: ='CB FY23-05'!AH52 -> 324583.24 | AI4: ='CB FY23-05'!$AI$52 -> 517714.38 | AJ4: ='CB FY23-05'!$AJ$52 -> 20269836 | AK4: ='CB FY23-05'!AK52 -> 48103591 | AL4: ='CB FY23-05'!AL52 -> 6612.23
A5: 25 | B5: 22.07/23-052 | C5: 23RE Tax | D5: 28223.11 | E5: =SUM(D5) -> 28223.11 | G5: =G4+E5-F5 -> 48138426 | Y5: 28223.11 | AK5: =AK4+SUM(H5:AJ5) -> 48131814 | AL5: =G5-AK5 -> 6612.23
G6: =G5+E6-F6 -> 48138426 | AK6: =AK5+SUM(H6:AJ6) -> 48131814 | AL6: =G6-AK6 -> 6612.23
A7: 26 | B7: 22.07/23-053 | C7: 23PP Tax | D7: 322.07 | G7: =G6+E7-F7 -> 48138426 | AK7: =AK6+SUM(H7:AJ7) -> 48131814 | AL7: =G7-AK7 -> 6612.23
C8: 23RE Tax | D8: 123793.06 | E8: =SUM(D7:D8) -> 124115.13 | G8: =G7+E8-F8 -> 48262541 | Y8: 124115.13 | AK8: =AK7+SUM(H8:AJ8) -> 48255929 | AL8: =G8-AK8 -> 6612.23
G9: =G8+E9-F9 -> 48262541 | AK9: =AK8+SUM(H9:AJ9) -> 48255929 | AL9: =G9-AK9 -> 6612.23
A10: 28 | B10: Police Dept FY23-4 | C10: Police Detail | D10: 783 | G10: =G9+E10-F10 -> 48262541 | AK10: =AK9+SUM(H10:AJ10) -> 48255929 | AL10: =G10-AK10 -> 6612.23
C11: Administrative Fee | D11: 55.1 | G11: =G10+E11-F11 -> 48262541 | AK11: =AK10+SUM(H11:AJ11) -> 48255929 | AL11: =G11-AK11 -> 6612.23
B12: Police Dept FY23-4 | C12: Firearms LTC Applications | D12: 300 | G12: =G11+E12-F12 -> 48262541 | AK12: =AK11+SUM(H12:AJ12) -> 48255929 | AL12: =G12-AK12 -> 6612.23
C13: Insurance & Police Reports | D13: 30 | G13: =G12+E13-F13 -> 48262541 | AK13: =AK12+SUM(H13:AJ13) -> 48255929 | AL13: =G13-AK13 -> 6612.23
B14: Highway 2023-04 | C14: Rain Barrels | D14: 120 | G14: =G13+E14-F14 -> 48262541 | AK14: =AK13+SUM(H14:AJ14) -> 48255929 | AL14: =G14-AK14 -> 6612.23
C15: Food Scrap Pail-Garage | D15: 15 | G15: =G14+E15-F15 -> 48262541 | AK15: =AK14+SUM(H15:AJ15) -> 48255929 | AL15: =G15-AK15 -> 6612.23
C16: Food Scrap Pail-Kitchen | D16: 20 | G16: =G15+E16-F16 -> 48262541 | AK16: =AK15+SUM(H16:AJ16) -> 48255929 | AL16: =G16-AK16 -> 6612.23
C17: Mattresses | D17: 30 | G17: =G16+E17-F17 -> 48262541 | AK17: =AK16+SUM(H17:AJ17) -> 48255929 | AL17: =G17-AK17 -> 6612.23
B18: Council on Aging 2023-01 | C18: COA Revolving Fund | D18: 608 | G18: =G17+E18-F18 -> 48262541 | AK18: =AK17+SUM(H18:AJ18) -> 48255929 | AL18: =G18-AK18 -> 6612.23
B19: Board of Health 2023-07 | C19: Administrative Fees | D19: 250 | G19: =G18+E19-F19 -> 48262541 | AK19: =AK18+SUM(H19:AJ19) -> 48255929 | AL19: =G19-AK19 -> 6612.23
C20: Septic Revolving | D20: 1200 | G20: =G19+E20-F20 -> 48262541 | AK20: =AK19+SUM(H20:AJ20) -> 48255929 | AL20: =G20-AK20 -> 6612.23
C21: Perc/Deep Hole Revolving | D21: 450 | G21: =G20+E21-F21 -> 48262541 | AK21: =AK20+SUM(H21:AJ21) -> 48255929 | AL21: =G21-AK21 -> 6612.23
B22: Ambulance- JUNE 2022 | C22: Ambulance Fees | D22: 18881.69 | G22: =G21+E22-F22 -> 48262541 | AK22: =AK21+SUM(H22:AJ22) -> 48255929 | AL22: =G22-AK22 -> 6612.23
C23: Ambulance Fee Interest | D23: 1.11 | E23: =SUM(D10:D23) -> 22743.9 | G23: =G22+E23-F23 -> 48285285 | H23: 22743.9 | AK23: =AK22+SUM(H23:AJ23) -> 48278673 | AL23: =G23-AK23 -> 6612.23
G24: =G23+E24-F24 -> 48285285 | AK24: =AK23+SUM(H24:AJ24) -> 48278673 | AL24: =G24-AK24 -> 6612.23
A25: 28 | B25: Building Dept. 2023-4CC | C25: Building Permits-Paid by CC | D25: 150 | E25: =SUM(D25) -> 150 | G25: =G24+E25-F25 -> 48285435 | O25: 150 | AK25: =AK24+SUM(H25:AJ25) -> 48278823 | AL25: =G25-AK25 -> 6612.23
G26: =G25+E26-F26 -> 48285435 | AK26: =AK25+SUM(H26:AJ26) -> 48278823 | AL26: =G26-AK26 -> 6612.23
A27: 19 | B27: Board of Health 2023-05 | C27: Septic Revolving | D27: 300 | G27: =G26+E27-F27 -> 48285435 | AK27: =AK26+SUM(H27:AJ27) -> 48278823 | AL27: =G27-AK27 -> 6612.23
B28: Chickering School #210 | C28: GYM | D28: 2095 | G28: =G27+E28-F28 -> 48285435 | AK28: =AK27+SUM(H28:AJ28) -> 48278823 | AL28: =G28-AK28 -> 6612.23
B29: Ambulance Receipts-MAY 2022 | C29: Ambulance Fees | D29: 7286.94 | G29: =G28+E29-F29 -> 48285435 | AK29: =AK28+SUM(H29:AJ29) -> 48278823 | AL29: =G29-AK29 -> 6612.23
C30: Ambulance Fee Interest | D30: 1.05 | G30: =G29+E30-F30 -> 48285435 | AK30: =AK29+SUM(H30:AJ30) -> 48278823 | AL30: =G30-AK30 -> 6612.23
B31: Highway 2023-01 | C31: Recycling Receipts (metal) | D31: 709.96 | G31: =G30+E31-F31 -> 48285435 | AK31: =AK30+SUM(H31:AJ31) -> 48278823 | AL31: =G31-AK31 -> 6612.23
C32: Recycling Receipts-Textiles | D32: 150 | G32: =G31+E32-F32 -> 48285435 | AK32: =AK31+SUM(H32:AJ32) -> 48278823 | AL32: =G32-AK32 -> 6612.23
C33: Recycling Receipts (returnable Cans) | D33: 1189 | G33: =G32+E33-F33 -> 48285435 | AK33: =AK32+SUM(H33:AJ33) -> 48278823 | AL33: =G33-AK33 -> 6612.23
C34: Street Opening Receipts | D34: 200 | G34: =G33+E34-F34 -> 48285435 | AK34: =AK33+SUM(H34:AJ34) -> 48278823 | AL34: =G34-AK34 -> 6612.23
B35: Building Dept. 2023-3 | C35: Order-MISC-Copies-Etc. (24 Crest Dr.) | D35: 31.46 | G35: =G34+E35-F35 -> 48285435 | AK35: =AK34+SUM(H35:AJ35) -> 48278823 | AL35: =G35-AK35 -> 6612.23
B36: Building Dept. 2023-2 | C36: Building Permits | D36: 20753.31 | G36: =G35+E36-F36 -> 48285435 | AK36: =AK35+SUM(H36:AJ36) -> 48278823 | AL36: =G36-AK36 -> 6612.23
C37: Gas Fees | D37: 70 | G37: =G36+E37-F37 -> 48285435 | AK37: =AK36+SUM(H37:AJ37) -> 48278823 | AL37: =G37-AK37 -> 6612.23
C38: Plumbing Fees | D38: 120 | G38: =G37+E38-F38 -> 48285435 | AK38: =AK37+SUM(H38:AJ38) -> 48278823 | AL38: =G38-AK38 -> 6612.23
C39: Wiring Fees | D39: 190 | G39: =G38+E39-F39 -> 48285435 | AK39: =AK38+SUM(H39:AJ39) -> 48278823 | AL39: =G39-AK39 -> 6612.23
C40: Gas Revolving | D40: 415 | G40: =G39+E40-F40 -> 48285435 | AK40: =AK39+SUM(H40:AJ40) -> 48278823 | AL40: =G40-AK40 -> 6612.23
...

Sheet CB FY23-06 A
B1: FY 2023 | C1: TOWN OF DOVER | D1: PAGE : | E1: 6 A
B2: July
A3: DATE | B3: DEPT. | C3: DESCRIPTION | E3: DEPOSIT | F3: DEBIT | G3: BALANCE | H3: CITIZENS DEPOSITORY | I3: B of A LUNCH | J3: CITIZENS PAYROLL | K3: BNY Mellon Trusts | L3: CITIZENS PERFORM BND | M3: UNIBANK MMDA | N3: UNIBANK CD | O3: UNIPAY | P3: UBS PAINE WEBBER Treas | Q3: UBS PW STABILIZATION | R3: CENTURY BANK | S3: ROCKLAND Trust MMDA | T3: Citizens Student Activity Svgs Acct | U3: Multi-Bank Securities | V3: WEBSTER BANK | W3: EASTERN BANK | X3: TRUST FUNDS BNY Mellon | Y3: Century Bank Lockbox | Z3: LendingClub Bank MMDA | AA3: Peoples United Bank (Belmont) | AB3: BNY Mellon OPEB Trust Fund | AC3: Rockland Trust Vendor | AD3: HarborOne Bank | AE3: Needham Bank - MMDA (Lunch) | AF3: Webster Bank CD | AG3: Needham Bank - MMA Tax PrePay | AH3: Needham Bank - CD | AI3: Cape Cod Coop | AJ3: Bartholemew & Co - OPEB Stabilization | AK3: BALANCE | AL3: DIFFERENCE
G4: ='CB FY23-06'!G52 -> 50942572 | H4: ='CB FY23-06'!H52 -> 2945968.1 | I4: ='CB FY23-06'!I52 -> 688994.93 | J4: ='CB FY23-06'!J52 -> 0 | K4: ='CB FY23-06'!K52 -> 175505.08 | L4: ='CB FY23-06'!L52 -> 75450.05 | M4: ='CB FY23-06'!M52 -> 381296.47 | N4: ='CB FY23-06'!N52 -> 1218518.2 | ... AH4: ='CB FY23-06'!AH52 -> 324583.24 | AI4: ='CB FY23-06'!$AI$52 -> 517714.38 | AJ4: ='CB FY23-06'!$AJ$52 -> 20269836 | AK4: ='CB FY23-06'!AK52 -> 50935960 | AL4: ='CB FY23-06'!AL52 -> 6612.23
A5: 1 | B5: 22.07/23-123 | C5: 22 PP Tax | D5: 0.27 | G5: =G4+E5-F5 -> 50942572 | AK5: =AK4+SUM(H5:AJ5) -> 50935960 | AL5: =G5-AK5 -> 6612.23
C6: Penalty-PP Int. | D6: -0.27 | E6: =SUM(D5:D6) -> 0 | G6: =G5+E6-F6 -> 50942572 | AK6: =AK5+SUM(H6:AJ6) -> 50935960 | AL6: =G6-AK6 -> 6612.23
G7: =G6+E7-F7 -> 50942572 | AK7: =AK6+SUM(H7:AJ7) -> 50935960 | AL7: =G7-AK7 -> 6612.23
A8: 1 | B8: 22.07/23-129 | C8: 22 MV Excise Tax | D8: 10 | G8: =G7+E8-F8 -> 50942572 | AK8: =AK7+SUM(H8:AJ8) -> 50935960 | AL8: =G8-AK8 -> 6612.23
C9: Penalty-MV Excise DMD Fee | D9: -10 | E9: =SUM(D8:D9) -> 0 | G9: =G8+E9-F9 -> 50942572 | AK9: =AK8+SUM(H9:AJ9) -> 50935960 | AL9: =G9-AK9 -> 6612.23
G10: =G9+E10-F10 -> 50942572 | AK10: =AK9+SUM(H10:AJ10) -> 50935960 | AL10: =G10-AK10 -> 6612.23
A11: 1 | B11: 22.07/23-140 | C11: 22 MV Excise Tax | D11: -2.71 | G11: =G10+E11-F11 -> 50942572 | AK11: =AK10+SUM(H11:AJ11) -> 50935960 | AL11: =G11-AK11 -> 6612.23
C12: Penalty-MV Int. | D12: 2.71 | E12: =SUM(D11:D12) -> 0 | G12: =G11+E12-F12 -> 50942572 | AK12: =AK11+SUM(H12:AJ12) -> 50935960 | AL12: =G12-AK12 -> 6612.23
G13: =G12+E13-F13 -> 50942572 | AK13: =AK12+SUM(H13:AJ13) -> 50935960 | AL13: =G13-AK13 -> 6612.23
A14: 6 | B14: 22.07/23-090 | C14: 22 MV Excise Tax | D14: 153.5 | G14: =G13+E14-F14 -> 50942572 | AK14: =AK13+SUM(H14:AJ14) -> 50935960 | AL14: =G14-AK14 -> 6612.23
C15: Penalty-MV Int./DMD Fee | D15: 10.15 | E15: =SUM(D14:D15) -> 163.65 | G15: =G14+E15-F15 -> 50942736 | O15: 163.65 | AK15: =AK14+SUM(H15:AJ15) -> 50936124 | AL15: =G15-AK15 -> 6612.23
G16: =G15+E16-F16 -> 50942736 | AK16: =AK15+SUM(H16:AJ16) -> 50936124 | AL16: =G16-AK16 -> 6612.23
A17: 26 | B17: 22.07/23-057 | C17: 23 RE Receivable | D17: -3328.77 | E17: =SUM(D17) -> -3328.77 | G17: =G16+E17-F17 -> 50939407 | Y17: -3328.77 | AK17: =AK16+SUM(H17:AJ17) -> 50932795 | AL17: =G17-AK17 -> 6612.23
G18: =G17+E18-F18 -> 50939407 | AK18: =AK17+SUM(H18:AJ18) -> 50932795 | AL18: =G18-AK18 -> 6612.23
A19: 27 | B19: 22.07/23-094 | C19: 23 RE Receivable | D19: 94004.06 | E19: =SUM(D19) -> 94004.06 | G19: =G18+E19-F19 -> 51033411 | Y19: 94004.06 | AK19: =AK18+SUM(H19:AJ19) -> 51026799 | AL19: =G19-AK19 -> 6612.23
G20: =G19+E20-F20 -> 51033411 | AK20: =AK19+SUM(H20:AJ20) -> 51026799 | AL20: =G20-AK20 -> 6612.23
A21: 28 | B21: 22.07/23-095 | C21: 23 PP Tax | D21: 288.27 | G21: =G20+E21-F21 -> 51033411 | AK21: =AK20+SUM(H21:AJ21) -> 51026799 | AL21: =G21-AK21 -> 6612.23
C22: 23 RE Receivable | D22: 773528.59 | E22: =SUM(D21:D22) -> 773816.86 | G22: =G21+E22-F22 -> 51807228 | Y22: 773816.86 | AK22: =AK21+SUM(H22:AJ22) -> 51800616 | AL22: =G22-AK22 -> 6612.23
G23: =G22+E23-F23 -> 51807228 | AK23: =AK22+SUM(H23:AJ23) -> 51800616 | AL23: =G23-AK23 -> 6612.23
A24: 29 | B24: 22.07/23-096 | C24: 23 PP Tax | D24: 35.69 | G24: =G23+E24-F24 -> 51807228 | AK24: =AK23+SUM(H24:AJ24) -> 51800616 | AL24: =G24-AK24 -> 6612.23
C25: 23 RE Receivable | D25: 155333.13 | E25: =SUM(D24:D25) -> 155368.82 | G25: =G24+E25-F25 -> 51962597 | Y25: 155368.82 | AK25: =AK24+SUM(H25:AJ25) -> 51955985 | AL25: =G25-AK25 -> 6612.23
G26: =G25+E26-F26 -> 51962597 | AK26: =AK25+SUM(H26:AJ26) -> 51955985 | AL26: =G26-AK26 -> 6612.23
A27: 30 | B27: 22.07/23-114 | C27: 23 RE Receivable | D27: -3914.12 | E27: =SUM(D27) -> -3914.12 | G27: =G26+E27-F27 -> 51958683 | Y27: -3914.12 | AK27: =AK26+SUM(H27:AJ27) -> 51952071 | AL27: =G27-AK27 -> 6612.23
G28: =G27+E28-F28 -> 51958683 | AK28: =AK27+SUM(H28:AJ28) -> 51952071 | AL28: =G28-AK28 -> 6612.23
A29: 13 | B29: 22.07/23-076 | C29: 23 RE Receivable | D29: 12566.92 | E29: =SUM(D29) -> 12566.92 | G29: =G28+E29-F29 -> 51971250 | O29: 12566.92 | AK29: =AK28+SUM(H29:AJ29) -> 51964637 | AL29: =G29-AK29 -> 6612.23
G30: =G29+E30-F30 -> 51971250 | AK30: =AK29+SUM(H30:AJ30) -> 51964637 | AL30: =G30-AK30 -> 6612.23
A31: 27 | B31: 22.07/23-059 | C31: 23 RE Receivable | D31: 69383.31 | E31: =SUM(D31) -> 69383.31 | G31: =G30+E31-F31 -> 52040633 | O31: 69383.31 | AK31: =AK30+SUM(H31:AJ31) -> 52034021 | AL31: =G31-AK31 -> 6612.23
G32: =G31+E32-F32 -> 52040633 | AK32: =AK31+SUM(H32:AJ32) -> 52034021 | AL32: =G32-AK32 -> 6612.23
A33: 28 | B33: 22.07/23-060 | C33: 23 RE Receivable | D33: 79922.83 | E33: =SUM(D33) -> 79922.83 | G33: =G32+E33-F33 -> 52120556 | O33: 79922.83 | AK33: =AK32+SUM(H33:AJ33) -> 52113944 | AL33: =G33-AK33 -> 6612.23
G34: =G33+E34-F34 -> 52120556 | AK34: =AK33+SUM(H34:AJ34) -> 52113944 | AL34: =G34-AK34 -> 6612.23
A35: 29 | B35: 22.07/23-061 | C35: 23 RE Receivable | D35: 124440.55 | E35: =SUM(D35) -> 124440.55 | G35: =G34+E35-F35 -> 52244996 | O35: 124440.55 | AK35: =AK34+SUM(H35:AJ35) -> 52238384 | AL35: =G35-AK35 -> 6612.23
G36: =G35+E36-F36 -> 52244996 | AK36: =AK35+SUM(H36:AJ36) -> 52238384 | AL36: =G36-AK36 -> 6612.23
A37: 30 | B37: 22.07/23-062 | C37: 23 RE Receivable | D37: 45877.84 | E37: =SUM(D37) -> 45877.84 | G37: =G36+E37-F37 -> 52290874 | O37: 45877.84 | AK37: =AK36+SUM(H37:AJ37) -> 52284262 | AL37: =G37-AK37 -> 6612.23
G38: =G37+E38-F38 -> 52290874 | AK38: =AK37+SUM(H38:AJ38) -> 52284262 | AL38: =G38-AK38 -> 6612.23
A39: 31 | B39: 22.07/23-063 | C39: 23 RE Receivable | D39: 44170.51 | E39: =SUM(D39) -> 44170.51 | G39: =G38+E39-F39 -> 52335045 | O39: 44170.51 | AK39: =AK38+SUM(H39:AJ39) -> 52328432 | AL39: =G39-AK39 -> 6612.23
G40: =G39+E40-F40 -> 52335045 | AK40: =AK39+SUM(H40:AJ40) -> 52328432 | AL40: =G40-AK40 -> 6612.23
...

Sheet CB FY23-06 B
B1: FY 2023 | C1: TOWN OF DOVER | D1: PAGE : | E1: 6 B
B2: July
A3: DATE | B3: DEPT. | C3: DESCRIPTION | E3: DEPOSIT | F3: DEBIT | G3: BALANCE | H3: CITIZENS DEPOSITORY | I3: B of A LUNCH | J3: CITIZENS PAYROLL | K3: BNY Mellon Trusts | L3: CITIZENS PERFORM BND | M3: UNIBANK MMDA | N3: UNIBANK CD | O3: UNIPAY | P3: UBS PAINE WEBBER Treas | Q3: UBS PW STABILIZATION | R3: CENTURY BANK | S3: ROCKLAND Trust MMDA | T3: Citizens Student Activity Svgs Acct | U3: Multi-Bank Securities | V3: WEBSTER BANK | W3: EASTERN BANK | X3: TRUST FUNDS BNY Mellon | Y3: Century Bank Lockbox | Z3: LendingClub Bank MMDA | AA3: Peoples United Bank (Belmont) | AB3: BNY Mellon OPEB Trust Fund | AC3: Rockland Trust Vendor | AD3: HarborOne Bank | AE3: Needham Bank - MMDA (Lunch) | AF3: Webster Bank CD | AG3: Needham Bank - MMA Tax PrePay | AH3: Needham Bank - CD | AI3: Cape Cod Coop | AJ3: Bartholemew & Co - OPEB Stabilization | AK3: BALANCE | AL3: DIFFERENCE
G4: ='CB FY23-06 A'!G52 -> 52337242 | H4: ='CB FY23-06 A'!H52 -> 2945968.1 | I4: ='CB FY23-06 A'!I52 -> 688994.93 | J4: ='CB FY23-06 A'!J52 -> 0 | K4: ='CB FY23-06 A'!K52 -> 175505.08 | L4: ='CB FY23-06 A'!L52 -> 75450.05 | M4: ='CB FY23-06 A'!M52 -> 381296.47 | N4: ='CB FY23-06 A'!N52 -> 1218518.2 | ... AL4: ='CB FY23-06 A'!AL52 -> 6612.23
A5: 25 | B5: 22.07/23-141 | C5: 21 MV Excise Tax | D5: 317.18 | G5: =G4+E5-F5 -> 52337242 | AK5: =AK4+SUM(H5:AJ5) -> 52330630 | AL5: =G5-AK5 -> 6612.23
C6: Penalty-MV Int. | D6: 47.45 | G6: =G5+E6-F6 -> 52337242 | AK6: =AK5+SUM(H6:AJ6) -> 52330630 | AL6: =G6-AK6 -> 6612.23
C7: Penalty-MV-DMD Fees | D7: 15 | E7: =SUM(D5:D7) -> 379.63 | G7: =G6+E7-F7 -> 52337622 | O7: 379.63 | AK7: =AK6+SUM(H7:AJ7) -> 52331010 | AL7: =G7-AK7 -> 6612.23
G8: =G7+E8-F8 -> 52337622 | AK8: =AK7+SUM(H8:AJ8) -> 52331010 | AL8: =G8-AK8 -> 6612.23
A9: 1 | B9: 22.07/23-249 | C9: 22 RE Tax | D9: -4348.78 | G9: =G8+E9-F9 -> 52337622 | AK9: =AK8+SUM(H9:AJ9) -> 52331010 | AL9: =G9-AK9 -> 6612.23
C10: 23 RE Tax | D10: 4348.78 | E10: =SUM(D9:D10) -> 0 | G10: =G9+E10-F10 -> 52337622 | AK10: =AK9+SUM(H10:AJ10) -> 52331010 | AL10: =G10-AK10 -> 6612.23
G11: =G10+E11-F11 -> 52337622 | AK11: =AK10+SUM(H11:AJ11) -> 52331010 | AL11: =G11-AK11 -> 6612.23
A12: 1 | B12: 22.06/22-665 BRADY | C12: Tax Collector | D12: 302.7 | E12: 302.7 | G12: =G11+E12-F12 -> 52337925 | H12: 302.7 | AK12: =AK11+SUM(H12:AJ12) -> 52331312 | AL12: =G12-AK12 -> 6612.23
G13: =G12+E13-F13 -> 52337925 | AK13: =AK12+SUM(H13:AJ13) -> 52331312 | AL13: =G13-AK13 -> 6612.23
A14: 31 | B14: Treasurer | C14: State Aid | D14: 320652.12 | E14: =SUM(D14) -> 320652.12 | G14: =G13+E14-F14 -> 52658577 | S14: =320652.12 -> 320652.12 | AK14: =AK13+SUM(H14:AJ14) -> 52651965 | AL14: =G14-AK14 -> 6612.23
G15: =G14+E15-F15 -> 52658577 | AK15: =AK14+SUM(H15:AJ15) -> 52651965 | AL15: =G15-AK15 -> 6612.23
G16: =G15+E16-F16 -> 52658577 | AK16: =AK15+SUM(H16:AJ16) -> 52651965 | AL16: =G16-AK16 -> 6612.23
A17: 1 | B17: Treasurer | C17: 07-TR01 Smoke Detectors | D17: 880 | E17: =SUM(D17) -> 880 | G17: =G16+E17-F17 -> 52659457 | O17: 880 | AK17: =AK16+SUM(H17:AJ17) -> 52652845 | AL17: =G17-AK17 -> 6612.23
G18: =G17+E18-F18 -> 52659457 | AK18: =AK17+SUM(H18:AJ18) -> 52652845 | AL18: =G18-AK18 -> 6612.23
A19: 1 | B19: Transfer | C19: 22.05 Transfer not posted | D19: 0 | E19: 0 | G19: =G18+E19-F19 -> 52659457 | K19: 1951 | X19: -1951 | AK19: =AK18+SUM(H19:AJ19) -> 52652845 | AL19: =G19-AK19 -> 6612.23
G20: =G19+E20-F20 -> 52659457 | AK20: =AK19+SUM(H20:AJ20) -> 52652845 | AL20: =G20-AK20 -> 6612.23
A21: 1 | B21: Transfer | C21: Transfer not posted | D21: 0 | E21: 0 | G21: =G20+E21-F21 -> 52659457 | S21: 3.42 | AC21: -3.42 | AK21: =AK20+SUM(H21:AJ21) -> 52652845 | AL21: =G21-AK21 -> 6612.23
G22: =G21+E22-F22 -> 52659457 | AK22: =AK21+SUM(H22:AJ22) -> 52652845 | AL22: =G22-AK22 -> 6612.23
G23: =G22+E23-F23 -> 52659457 | AK23: =AK22+SUM(H23:AJ23) -> 52652845 | AL23: =G23-AK23 -> 6612.23
G24: =G23+E24-F24 -> 52659457 | AK24: =AK23+SUM(H24:AJ24) -> 52652845 | AL24: =G24-AK24 -> 6612.23
G25: =G24+E25-F25 -> 52659457 | AK25: =AK24+SUM(H25:AJ25) -> 52652845 | AL25: =G25-AK25 -> 6612.23
G26: =G25+E26-F26 -> 52659457 | AK26: =AK25+SUM(H26:AJ26) -> 52652845 | AL26: =G26-AK26 -> 6612.23
G27: =G26+E27-F27 -> 52659457 | AK27: =AK26+SUM(H27:AJ27) -> 52652845 | AL27: =G27-AK27 -> 6612.23
G28: =G27+E28-F28 -> 52659457 | AK28: =AK27+SUM(H28:AJ28) -> 52652845 | AL28: =G28-AK28 -> 6612.23
G29: =G28+E29-F29 -> 52659457 | AK29: =AK28+SUM(H29:AJ29) -> 52652845 | AL29: =G29-AK29 -> 6612.23
G30: =G29+E30-F30 -> 52659457 | AK30: =AK29+SUM(H30:AJ30) -> 52652845 | AL30: =G30-AK30 -> 6612.23
G31: =G30+E31-F31 -> 52659457 | AK31: =AK30+SUM(H31:AJ31) -> 52652845 | AL31: =G31-AK31 -> 6612.23
G32: =G31+E32-F32 -> 52659457 | AK32: =AK31+SUM(H32:AJ32) -> 52652845 | AL32: =G32-AK32 -> 6612.23
G33: =G32+E33-F33 -> 52659457 | AK33: =AK32+SUM(H33:AJ33) -> 52652845 | AL33: =G33-AK33 -> 6612.23
... G52: =G51+E52-F52 -> 52659457 | AK52: =AK51+SUM(H52:AJ52) -> 52652845 | AL52: =G52-AK52 -> 6612.23
B53: CK172 Chung/Ward | C53: RE Charges | D53: -5 | G53: =G52+E53-F53 -> 52659457 | H53: =SUM(H4:H52) -> 2946270.8 | I53: =SUM(I4:I52) -> 688994.93 | J53: =SUM(J4:J52) -> 0 | K53: =SUM(K4:K52) -> 177456.08 | L53: =SUM(L4:L52) -> 75450.05 | M53: =SUM(M4:M52) -> 381296.47 | N53: =SUM(N4:N52) -> 1218518.2 | O53: =SUM(O4:O52) -> 512817.65 | ... AJ53: =SUM(AJ4:AJ52) -> 20269836 | AK53: =SUM(H53:AJ53) -> 52652845 | AL53: =G53-AK53 -> 6612.23
C54: Total all Entries | D54: =SUM(D5:D53) -> 322209.45 | E54: =SUM(E5:E53) -> 322214.45 | F54: =SUM(F5:F53) -> 0 | AL54: -5622.53
C55: TOTAL GENERAL FUND | D55: =+E54-D56 -> 322214.45 | AL55: -295.16
C56: TOTAL TRUST FUNDS | D56: =E51 -> 0
AK58: 10/27/22 SAA transfer to Checking | AL58: -1250
AK59: 7/12/21 To SAA Checking | AL59: -100
...

Sheet CB FY23-07 July Int
B1: FY 2023 | C1: TOWN OF DOVER | D1: PAGE : | E1: ='CB FY23-06'!E1+1 -> 7
B2: July | Z2: Ex-LendingClub Bank
A3: DATE | B3: DEPT. | C3: DESCRIPTION | E3: DEPOSIT | F3: DEBIT | G3: BALANCE | H3: CITIZENS DEPOSITORY | I3: B of A LUNCH | J3: CITIZENS PAYROLL | K3: BNY Mellon Trusts | L3: CITIZENS PERFORM BND | M3: UNIBANK MMDA | N3: UNIBANK CD | O3: UNIPAY | P3: UBS PAINE WEBBER Treas | Q3: UBS PW STABILIZATION | R3: EASTERN (CENTURY) BANK | S3: ROCKLAND Trust MMDA | T3: Citizens Student Activity Svgs Acct | U3: Multi-Bank Securities | V3: WEBSTER BANK | W3: EASTERN BANK | X3: TRUST FUNDS BNY Mellon | Y3: Eastern (Century) Bank Lockbox | Z3: LendingClub MMDA | AA3: M&T (Peoples United(Belmont)) Bank | AB3: BNY Mellon OPEB Trust Fund | AC3: Rockland Trust Vendor | AD3: HarborOne Bank | AE3: Needham Bank - MMDA (Lunch) | AF3: Webster Bank CD | AG3: Needham Bank - MMA Tax PrePay | AH3: Needham Bank - CD | AI3: Cape Cod Coop | AJ3: Bartholemew & Co - OPEB Stabilization | AK3: BALANCE | AL3: DIFFERENCE
G4: ='CB FY23-06 B'!G53 -> 52659457 | H4: ='CB FY23-06 B'!H53 -> 2946270.8 | I4: ='CB FY23-06 B'!I53 -> 688994.93 | J4: ='CB FY23-06 B'!J53 -> 0 | K4: ='CB FY23-06 B'!K53 -> 177456.08 | L4: ='CB FY23-06 B'!L53 -> 75450.05 | M4: ='CB FY23-06 B'!M53 -> 381296.47 | N4: ='CB FY23-06 B'!N53 -> 1218518.2 | ... AL4: ='CB FY23-06 B'!AL53 -> 6612.23
A5: 28 | B5: INVESTMENT INCOME | C5: Cape Cod Coop MM - 3662 | E5: 185.1 | G5: =G4+E5-F5 -> 52659642 | AI5: 185.1 | AK5: =AK4+SUM(H5:AJ5) -> 52653030 | AL5: =G5-AK5 -> 6612.23
B6: TREASURER | C6: BANK OF AMERICA/General | E6: 105.33 | G6: =G5+E6-F6 -> 52659747 | I6: 105.33 | AK6: =AK5+SUM(H6:AJ6) -> 52653135 | AL6: =G6-AK6 -> 6612.23
C7: MELLON BANK - 4943 | E7: 60.15 | G7: =G6+E7-F7 -> 52659807 | K7: 60.15 | AK7: =AK6+SUM(H7:AJ7) -> 52653195 | AL7: =G7-AK7 -> 6612.23
C8: UBS-PaineWebber 30283 | E8: 437.79 | G8: =G7+E8-F8 -> 52660245 | P8: 437.79 | AK8: =AK7+SUM(H8:AJ8) -> 52653633 | AL8: =G8-AK8 -> 6612.23
C9: Eastern Bank - 0676 | E9: 34.1 | G9: =G8+E9-F9 -> 52660279 | W9: 34.1 | AK9: =AK8+SUM(H9:AJ9) -> 52653667 | AL9: =G9-AK9 -> 6612.23
B10: & 0235 | C10: Rockland Trust - 2959 Loc Aid | E10: 211.21 | G10: =G9+E10-F10 -> 52660490 | S10: 211.21 | AK10: =AK9+SUM(H10:AJ10) -> 52653878 | AL10: =G10-AK10 -> 6612.23
C11: Rockland Trust - 7198 Vendor | E11: 23.35 | G11: =G10+E11-F11 -> 52660514 | AC11: 23.35 | AK11: =AK10+SUM(H11:AJ11) -> 52653902 | AL11: =G11-AK11 -> 6612.23
B12: Negotiable CD's | C12: Multi-Bank Securities RMB-017229 | E12: 2640.72 | G12: =G11+E12-F12 -> 52663155 | U12: 2640.72 | AK12: =AK11+SUM(H12:AJ12) -> 52656542 | AL12: =G12-AK12 -> 6612.23
C13: UNIBANK 7 DAY CD - 9300001121 | E13: 9.48 | G13: =G12+E13-F13 -> 52663164 | N13: 9.48 | U13: -2640.72 | AC13: 2640.72 | AK13: =AK12+SUM(H13:AJ13) -> 52656552 | AL13: =G13-AK13 -> 6612.23
C14: UNIBANK 1884 | E14: 93.45 | G14: =G13+E14-F14 -> 52663257 | M14: 93.45 | AK14: =AK13+SUM(H14:AJ14) -> 52656645 | AL14: =G14-AK14 -> 6612.23
C15: UNIBANK - UNIPAY | E15: 7.98 | G15: =G14+E15-F15 -> 52663265 | O15: 7.98 | AK15: =AK14+SUM(H15:AJ15) -> 52656653 | AL15: =G15-AK15 -> 6612.23
C16: Webster Bank - 1113 | E16: 30.63 | G16: =G15+E16-F16 -> 52663296 | V16: 30.63 | AK16: =AK15+SUM(H16:AJ16) -> 52656684 | AL16: =G16-AK16 -> 6612.23
C17: Webster Bank CD - 9253 | E17: 755.62 | G17: =G16+E17-F17 -> 52664052 | AF17: 755.62 | AK17: =AK16+SUM(H17:AJ17) -> 52657439 | AL17: =G17-AK17 -> 6612.23
C18: Eastern (Century) Bank - 1869 | E18: 154.46 | G18: =G17+E18-F18 -> 52664206 | R18: 154.46 | AK18: =AK17+SUM(H18:AJ18) -> 52657594 | AL18: =G18-AK18 -> 6612.23
C19: Citizens Bank - Depository - 6143 | E19: 15.5 | G19: =G18+E19-F19 -> 52664222 | H19: 15.5 | AK19: =AK18+SUM(H19:AJ19) -> 52657609 | AL19: =G19-AK19 -> 6612.23
B20: ex - LendingClub Bank | C20: LendingClub - MMDA 119007729 | E20: 103.52 | G20: =G19+E20-F20 -> 52664325 | Z20: 103.52 | AK20: =AK19+SUM(H20:AJ20) -> 52657713 | AL20: =G20-AK20 -> 6612.23
C21: CITIZENS Student Activity Savings - 0893 | E21: 0.11 | G21: =G20+E21-F21 -> 52664325 | T21: 0.11 | AK21: =AK20+SUM(H21:AJ21) -> 52657713 | AL21: =G21-AK21 -> 6612.23
C22: HarborOne Bank - 0427 | E22: 21.23 | G22: =G21+E22-F22 -> 52664346 | AD22: 21.23 | AK22: =AK21+SUM(H22:AJ22) -> 52657734 | AL22: =G22-AK22 -> 6612.23
B23: Ex - Belmont Savings | C23: M&T (Peoples) Bank - 2190 | E23: 10.2 | G23: =G22+E23-F23 -> 52664357 | AA23: 10.2 | AK23: =AK22+SUM(H23:AJ23) -> 52657744 | AL23: =G23-AK23 -> 6612.23
C24: Eastern Bank (Century) Lockbox | E24: 124 | G24: =G23+E24-F24 -> 52664481 | Y24: 124 | AK24: =AK23+SUM(H24:AJ24) -> 52657868 | AL24: =G24-AK24 -> 6612.23
C25: Needham Bank - MMDA | E25: 439.9 | G25: =G24+E25-F25 -> 52664921 | AG25: 439.9 | AK25: =AK24+SUM(H25:AJ25) -> 52658308 | AL25: =G25-AK25 -> 6612.23
C26: Needham Bank - CD | G26: =G25+E26-F26 -> 52664921 | AK26: =AK25+SUM(H26:AJ26) -> 52658308 | AL26: =G26-AK26 -> 6612.23
C27: Needham Bank - 7157 | E27: 28.66 | G27: =G26+E27-F27 -> 52664949 | AE27: 28.66 | AK27: =AK26+SUM(H27:AJ27) -> 52658337 | AL27: =G27-AK27 -> 6612.23
B28: CITIZENS - PERFORMANCE | C28: Farm Street | E28: 0.61 | G28: =G27+E28-F28 -> 52664950 | L28: 0.61 | AK28: =AK27+SUM(H28:AJ28) -> 52658338 | AL28: =G28-AK28 -> 6612.23
C29: Strawberry Hill - White | G29: =G28+E29-F29 -> 52664950 | AK29: =AK28+SUM(H29:AJ29) -> 52658338 | AL29: =G29-AK29 -> 6612.23
C30: 260 Dedham Street | G30: =G29+E30-F30 -> 52664950 | AK30: =AK29+SUM(H30:AJ30) -> 52658338 | AL30: =G30-AK30 -> 6612.23
C31: James Cassidy | G31: =G30+E31-F31 -> 52664950 | AK31: =AK30+SUM(H31:AJ31) -> 52658338 | AL31: =G31-AK31 -> 6612.23
C32: Colonial Road - Atwood | G32: =G31+E32-F32 -> 52664950 | AK32: =AK31+SUM(H32:AJ32) -> 52658338 | AL32: =G32-AK32 -> 6612.23
C33: Dover Farms - LLC | E33: =SUM(D28:D34) -> 0 | G33: =G32+E33-F33 -> 52664950 | AK33: =AK32+SUM(H33:AJ33) -> 52658338 | AL33: =G33-AK33 -> 6612.23
B34: Trust Funds | C34: Atwood Circle | G34: =G33+E34-F34 -> 52664950 | AK34: =AK33+SUM(H34:AJ34) -> 52658338 | AL34: =G34-AK34 -> 6612.23
C35: Region OPEB Stabilization - Bart&Co | E35: =160.08+6389.76+25097.47 -> 31647.31 | G35: =G34+E35-F35 -> 52696597 | AJ35: =31647.31 -> 31647.31 | AK35: =AK34+SUM(H35:AJ35) -> 52689985 | AL35: =G35-AK35 -> 6612.23
C36: OPEB Trust Fund - Mellon | E36: 341388.77 | G36: =G35+E36-F36 -> 53037986 | AB36: 341388.77 | AK36: =AK35+SUM(H36:AJ36) -> 53031374 | AL36: =G36-AK36 -> 6612.23
