Workbook
Name Activity: 'Governance Tables'!$A$16:$J$30
Name admin: [1]!Administration[Subject Area]
Name admin: [1]!Administration[Subject Area]
Name admin: [1]!Administration[Subject Area]
Name admin: [1]!Administration[Subject Area]
Name admin_resp: [1]!Administration[Response '#1]
Name admin_resp: [1]!Administration[Response '#1]
Name admin_resp: [1]!Administration[Response '#1]
Name admin_resp: [1]!Administration[Response '#1]
Name admin_resp2: [1]!Administration[Response '#2]
Name admin_resp2: [1]!Administration[Response '#2]
Name admin_resp2: [1]!Administration[Response '#2]
Name admin_resp2: [1]!Administration[Response '#2]
Name commsan: [1]!Community_Sanitation[Subject Area]
Name commsan: [1]!Community_Sanitation[Subject Area]
Name commsan: [1]!Community_Sanitation[Subject Area]
Name commsan: [1]!Community_Sanitation[Subject Area]
Name commsan_resp: [1]!Community_Sanitation[Response '#1]
Name commsan_resp: [1]!Community_Sanitation[Response '#1]
Name commsan_resp: [1]!Community_Sanitation[Response '#1]
Name commsan_resp: [1]!Community_Sanitation[Response '#1]
Name commsan_resp2: [1]!Community_Sanitation[Response '#2]
Name commsan_resp2: [1]!Community_Sanitation[Response '#2]
Name commsan_resp2: [1]!Community_Sanitation[Response '#2]
Name commsan_resp2: [1]!Community_Sanitation[Response '#2]
Name disease: [1]!Disease_Control_and_Prevention[Subject Area]
Name disease: [1]!Disease_Control_and_Prevention[Subject Area]
Name disease: [1]!Disease_Control_and_Prevention[Subject Area]
Name disease: [1]!Disease_Control_and_Prevention[Subject Area]
Name disease_resp: [1]!Disease_Control_and_Prevention[Response '#1]
Name disease_resp: [1]!Disease_Control_and_Prevention[Response '#1]
Name disease_resp: [1]!Disease_Control_and_Prevention[Response '#1]
Name disease_resp: [1]!Disease_Control_and_Prevention[Response '#1]
Name disease_resp2: [1]!Disease_Control_and_Prevention[Response '#2]
Name disease_resp2: [1]!Disease_Control_and_Prevention[Response '#2]
Name disease_resp2: [1]!Disease_Control_and_Prevention[Response '#2]
Name disease_resp2: [1]!Disease_Control_and_Prevention[Response '#2]
Name environ: [1]!Environmental_Protection[Subject Area]
Name environ: [1]!Environmental_Protection[Subject Area]
Name environ: [1]!Environmental_Protection[Subject Area]
Name environ: [1]!Environmental_Protection[Subject Area]
Name environ_resp: [1]!Environmental_Protection[Response '#1]
Name environ_resp: [1]!Environmental_Protection[Response '#1]
Name environ_resp: [1]!Environmental_Protection[Response '#1]
Name environ_resp: [1]!Environmental_Protection[Response '#1]
Name environ_resp2: [1]!Environmental_Protection[Response '#2]
Name environ_resp2: [1]!Environmental_Protection[Response '#2]
Name environ_resp2: [1]!Environmental_Protection[Response '#2]
Name environ_resp2: [1]!Environmental_Protection[Response '#2]
Name food: [1]!Food_Protection[Subject Area]
Name food: [1]!Food_Protection[Subject Area]
Name food: [1]!Food_Protection[Subject Area]
Name food: [1]!Food_Protection[Subject Area]
Name food_resp: [1]!Food_Protection[Response '#1]
Name food_resp: [1]!Food_Protection[Response '#1]
Name food_resp: [1]!Food_Protection[Response '#1]
Name food_resp: [1]!Food_Protection[Response '#1]
Name food_resp2: [1]!Food_Protection[Response '#2]
Name food_resp2: [1]!Food_Protection[Response '#2]
Name food_resp2: [1]!Food_Protection[Response '#2]

Sheet Sheet1
B2: Project Goal | C2: Increase the proposed shared services arrangement’s capacity to strengthen and advance the effectiveness, efficiency, and equity of the delivery of public health services.
A4: Objective # | B4: Objective
A5: 1
A6: Activity # | B6: Activity | C6: Step # | D6: Step Description | E6: Step Lead | F6: Step Duration | G6: Activity Measure of Success
A7: 1.1 | C7: 1.1.1
C8: 1.1.2
C9: 1.1.3
A10: Inclusion / Equity focus:
A11: 1.2 | C11: 1.2.1
C12: 1.2.2
C13: 1.2.3
A14: Inclusion / Equity focus:
A15: 1.3 | C15: 1.3.1
C16: 1.3.2
C17: 1.3.3
A18: Inclusion / Equity focus:
A19: Objective # | B19: Objective
A20: 2
A21: Activity # | B21: Activity | C21: Step # | D21: Step Description | E21: Step Lead | F21: Step Duration | G21: Activity Measure of Success
A22: 2.1 | C22: 2.1.1
C23: 2.1.2
C24: 2.1.3
A25: Inclusion / Equity focus:
A26: 2.2 | C26: 2.2.1
C27: 2.2.2
C28: 2.2.3
A29: Inclusion / Equity focus:
A30: 2.3 | C30: 2.3.1
C31: 2.3.2
C32: 2.3.3
A33: Inclusion / Equity focus:

Sheet Guide
A6: FY 25 Workplan Instsructions
B8: Purpose
B9: This workplan serves as a tool to achieve this project's goal through clear objectives. The project goal, as stated in the Request for Responses, is "Increase the proposed shared services arrangement's capacity to strengthen and advance the effectiveness, efficiency, and equity of the delivery of public health services."
B10: Document Framework
B11: The overall project goal can be achieved through multiple, smaller objectives set by your team. All objectives should be necessary and sufficient towards fulfilling the larger goal and are divided by tab labeled "Objective X." To help manage operations for each objective, the document further splits objectives into activities to help your team keep track of work being done. Definitions of these distinct project management components are included below. Each activity can be labeled using the following progress measures: Not Started, On Track, Behind Schedule, Completed, and Other. For easy high-level discussion and reporting, a summary tab automatically aggregates objective steps and their progress in the "Summary" tab. • Objective - A tangible product, service, or deliverable necessary to achieve the project goal. Adheres to SMARTIE criteria, described below. • Activity - Actions to achieve the objectives that can be evaluated monthly by one measure of success. Each activity also contains an "Equity Focus in Process" and a "Measure of Success Equity Focus" component to ensure that an equity lens is applied in each step of carrying out activities and objectives. Note that there is an example of an "Objective" tab filled out in the "Sample Objective" tab.
B14: Each objective meets the following criteria: • Strategic - Reflects an important dimension of what your organization seeks to accomplish (programmatic or capacity-building priorities). • Measurable - Includes standards by which reasonable people can agree on whether the goal has been met (by numbers or defined qualities). • Ambitious - Challenging enough that achievement would mean significant progress—a “stretch” for the organization. • Realistic - Not so challenging as to indicate lack of thought about resources, capacity, or execution; possible to track and worth the time and energy to do so. • Time-bound - Includes a clear deadline. • Inclusive - Brings traditionally marginalized people—particularly those most impacted—into processes, activities, and decision/policy-making in a way that shares power. • Equitable - Seeks to address systemic injustice, inequity, or oppression.
B15: Using the Workbook • The workbook has been set up assuming each grantee will have 5 objectives that will be required of all grantees. • Your team may choose to set more or fewer than 5 objectives. If you wish to add an objective, simply copy an existing objective tab to create a new tab and update the objective numbers. • This can be done by "right-clicking" on an objective tab at the bottom of the sheet and choose "move or copy." • Similarly, if you need to add additional activities to better suit your work, you can do so by adding rows to the bottom of a worksheet to create room for an additional activity. • The Summary tab requires no input on your part, and will be populated by your entries in the existing tabs. • The Contractor Justification tab requires you to list any contracted positions included in this workplan along with a justification for the position and a brief description of a long-term plan to transition this position towards a municipal FTE.

Sheet Sample Objective
A1: This tab is a sample of what could be filled out for Objective 1.
A2: Grantee Name | B2: [Grantee Name] goes here and will autofill throughout the document
A3: Fiscal Year | B3: [Fiscal Year] goes here and will autofill throughout the document
A4: Project Goal | D4: The project goal set by the RFR is filled in every Objective tab. Increase the proposed shared services arrangement’s capacity to strengthen and advance the effectiveness, efficiency, and equity of the delivery of public health services.
A6: Objective # | B6: SAMPLE SMARTIE Objective | J6: Topic Area
A7: 1 | B7: Expand current public health nursing services to reach and meet the needs of the environmental justice (EJ) block groups (BGs) across 100% of the towns in the shared service arrangement in 6 months. | J7: Disease Control and Prevention
A9: Inclusion / Equity focus: | B9: Priortize meeting the public health nursing needs of EJ BG populations (https://www.mass.gov/info-details/environmental-justice-populations-in-massachusetts#what-is-an-environmental-justice-population?)
A10: Activity # | B10: Activity Description | C10: Equity Focus in Process | D10: Activity Lead | E10: Activity Start Date | F10: Activity End Date | G10: Activity Measure of Success | H10: MoS Equity Focus | I10: Activity Progress Notes | J10: Activity Progress
A11: 1.1 | B11: Identify all environmental justice (EJ) block groups (BGs) across all towns in the shared service arrangement. | C11: Ensure that all EJ BGs across the entire shared service arrangement are represented in this list. | D11: PHE Epidemiologist | E11: 44805 | F11: 44812 | G11: Epidemiologist creates list of EJ BGs based on state data across all towns in the shared service arrangement on 9/8/22. | H11: Ensure that all EJ BGs across the entire shared service arrangement are represented in this list. | I11: PHE Epidemiologist has completed this list. | J11: Completed
A12: 1.2 | B12: Conduct a community needs assessment across identified EJ BGs to determine public health nursing needs. | C12: Conduct outreach to residents of the EJ BGs and incorporate their feedback in the needs assessment. | D12: PHE Epidemiologist | E12: 44812 | F12: 44873 | G12: Epidemiologst completes a needs assessment of the public health nursing needs of the identified EJ BGs on 11/8/22. | H12: Ensure that final needs assessment incorporates qualitative and quantitative data. | I12: PHE Epidemiologist is compiling results of the needs assessment. | J12: On Track
A13: 1.3 | B13: Hire full-time shared Public Health Nurse to serve the identified EJ and their needs. | C13: Increase the diversity of job posting locations. Include additional equity statements in job description. | D13: PHE Shared Services Coordinator | E13: 44812 | F13: 44903 | G13: Public Health Nurse hired that reflects the demographics of the EJ BGs begins on 12/8/22. | H13: Public Health Nurse reflects the demographics of the EJ BGs. | I13: Public Health Nurse job has been posted on a variety of job posting platforms. | J13: On Track
A14: 1.4 | B14: Roll out public health nursing services to identifed EJ BGs. | C14: Prioritize rolling out services of highest need identified in the needs assessment. | D14: PHE Public Health Nurse | E14: 44903 | F14: 44628 | G14: Public Health Nurse provides services in each identified EJ BG that address each of the needs identified in the needs assessment by 3/8/22. | H14: Public Health Nurse focuses on addressing public health nursing needs idenitified in the community needs assessment. | I14: Not started. | J14: Not Started

Sheet About
A1: Public Health Excellence Shared Services Grant Program FY25 Workplan Revised May 15, 2024
A2: Overview
B4: Workplan Structure
C5: Welcome to the FY25 Public Health Excellence Shared Services Grant Program Workplan! This document is designed to help your Shared Services Arrangement (SSA) achieve the program's objective through clearly defined objectives and activities. The PHE Grant Program aims to enhance the capacity of proposed Shared Services Arrangements to improve the effectiveness, efficiency, and equity of public health service delivery. In this workplan, you will find detailed instructions and tabs to guide you through the process. You can navigate through the document one tab at a time or use the links provided on the "Instructions" tab for easier navigation. This year, we are introducing some new features, including collecting additional information about your SSA, incorporating PHE Grant Requirements (3) into the workplan which are already filled out (PHE Grant Requirement A-C), and a "Workplan Content Menu" of objectives and activities which will aid in filling out the workplan. Additionally, we are introducing three groups of objectives as described below.
C6: • | D6: Sustainability Objectives (Choose at least 1) | F6: These objectives focus on initiatives aimed at ensuring the long-term viability and collaborative utilization of resources within SSAs. These objectives aim to foster resilience, efficiency, and equitable distribution of services among participating entities.
C7: • | D7: Performance Standards Objectives (Choose at least 3) | F7: These objectives focus on working to achieve the Massachusetts Performance Standards for Local Public Health and act as measurable goals for assessing the efficiency and quality of public health services. These objectives aim to guarantee that participating entities adhere to established performance criteria, thereby improving service delivery.
C8: • | D8: Elective Objectives | F8: These objectives offer flexibility for SSAs to tailor objectives according to their unique goals and community needs. SSAs have the option to either craft their own objectives that align closely with their SSA's mission or select from pre-written Elective Objectives if they prefer. This category allows SSAs to customize their approach while ensuring alignment with overarching program objectives.
B10: Workplan Resources: Smartsheet PHE Resource List
C11: Shared Services Coordinators (SSCs) will receive a link via email to access Smartsheet. SSCs will be prompted to create an account and navigate to the PHE Resource List to retrieve all FY25 Workplan materials. The following materials should be utilized in order to successfully complete the FY25 Workplan template:
C13: • FY25 Workplan Content Menu
C14: • FY25 PHE Budget Template
C15: • Racial Equity Guidance Document
C16: • Staffing Chart Guidance for Job Classification and Program Area
C17: • FY25 Scoring Rubric
C18: • FY25 Engagement Scope
C19: • Capacity Assessment Key Findings Documents (9 total)
C20: • PHE Staff Waiver Request Form
B21: Additional PHE Workplan Resources
C22: Capacity Assessment Interactive Data Dashboard
C23: Self-Assessment Tool and Self-Assessment Addendum Webpage
C24: Performance Standards for Local Public Health
C25: Request Form for New PHE and FTH Allowable Expenditure
B27: Support
C28: If you have any questions about how to complete the FY25 Workplan or need support, please do not hesitate to contact your assigned Program Coordinator and/or email or call the Office of Local and Regional Health General Line (email: LocalRegionalPublicHealth@mass.gov; phone: 617-753-8018).

Sheet Dropdowns
A1: Grantee Name | B1: IMA | C1: Meetings | D1: SSC | E1: ISD | F1: Integrated Shared Services | G1: Funding Type | H1: Progress | I1: PS Category | J1: Environmental Health Subcategory | K1: Environmental Health Subcategory 2 | L1: Environmental Health Subcategory 3 (If Applicable) | M1: SSI Objectives | N1: PS Objectives | O1: Elective Objectives | P1: Racial Equity Consideration | Q1: Emplyment Type | R1: Staff Training | S1: MAVEN Users | T1: MIIS Users | U1: Racial Equity Consideration | V1: Job Program Areas | W1: Job Classification | X1: FTE | Y1: Is this activity selected from the Workplan Menu or is it unique? | Z1: This Performance Standards Objective was selected as a result of: | AA1: Budget Line Item Category | AB1: FTE Categories -Staffing chart | AC1: Budget Line Item Category | AD1: Training Hubs | AE1: Does your SSA have an existing IMA or eqivalent? | AF1: RE Themes | AG1: RE Considerations | AH1: Elective Objectives
A2: Response required | B2: Response required | C2: Response required | D2: Response required | E2: Response required | F2: Response required | G2: Response required | H2: Response required | I2: Performance Standard Category | J2: Environmental Health Subcategory 1 (If Applicable) | K2: Environmental Health Subcategory 2 (If Applicable) | L2: Environmental Health Subcategory 3 | M2: Choose Sustainability Objective from Dropdown | N2: Choose Performance Standard Objective from Dropdown | O2: Choose Performance Standard Objective from Dropdown | P2: Dropdown | Q2: Municipal Employee | R2: Yes | S2: =0 -> 0 | T2: =0 -> 0 | U2: Response Required | V2: Access to and Linkage with Clinical Care | W2: Agency Leadership | X2: Response Required | Y2: Response Required | Z2: Response Required | AA2: Response Required | AB2: Response Required | AC2: Response Required | AD2: Response Required | AE2: Response Required | AF2: Theme | AG2: Consideration | AH2: Choose Elective Objective from dropdown
A3: Amesbury Arrangement | B3: Yes | C3: Weekly | D3: Yes; Full-time | E3: Yes | F3: Not sharing any services currently. | G3: Yes; municipal funding | H3: Not started | I3: Environmental Health | J3: N/A | K3: N/A | L3: N/A | M3: 1- Communication & Engagement: Develop a framework for communication and engagement to optimize operational efficiency and effectiveness | N3: 1 - Enhance staff capacity to effectively meet mandated inspectional requirements and enforce regulations, in alignment with the Performance Standards for Local Public Health | O3: 1 - Funding: Apply and secure additional grant funding as a Shared Services Arrangement beyond the PHE Grant Program. | P3: Funding: | Q3: Contractor | R3: No | S3: =S2+1 -> 1 | T3: =T2+1 -> 1 | U3: Yes | V3: Emergency Preparedness and Response | W3: Animal Control Worker | X3: 35 | Y3: Workplan Menu | Z3: CART Assessment | AB3: Full Time | AC3: Shared Services Coordinator | AD3: Barnstable | AE3: Yes | AF3: Linguistic Justice | AG3: Language justice offers people and communities opportunities to understand and meaningfully participate in programs and services in their preferred languages. | AH3: 1- Organizational Competencies: Pool Municipal Opioid Abatement Funds
A4: Berkshire Public Health Alliance | B4: No | C4: Every 2 weeks | D4: Yes; Part-time | E4: No | F4: Only sharing services paid for by the PHE Grant. | G4: Yes; grant funding | H4: In progress | I4: Disease Control and Prevention | J4: Food Protection | K4: Food Protection | L4: Food Protection | M4: 2 -Strategic Planning: Develop a shared vision to inform future work | N4: 2 - Identify areas for improvement in inspection processes and provide targeted training to enhance the effectiveness and consistency of inspections across all participating municipalities | O4: 2 - Funding: Consolidate multiple contracted services or expand current contracts to develop a larger scaled contract to provide needed services to other municipalities within the Shared Services Arrangement (SSA). | P4: Staffing: | Q4: Volunteer | R4: Unknown | S4: =S3+1 -> 2 | T4: =T3+1 -> 2 | U4: No | V4: Accountability and Performance Management | W4: Behavioral Health Staff | X4: 37.5 | Y4: Custom | Z4: Self Assessment | AB4: Part Time | AC4: Health Inspector | AD4: Bay State Health | AE4: No | AF4: Environmental Justice | AG4: Allocate resources equitably in an environmental justice population to close possible gaps due to the lack of access (socio-economic, education, health etc.) | AH4: 2- Communicable Disease Control: Expand Vaccine Access
A5: Blackstone Valley Partnership for Public Health | B5: In progress | C5: Monthly | D5: No | F5: Sharing services and resources across SOME member municipalities beyond what the grant funds. | G5: Yes; combination of municipal and grant funding | H5: Stalled | I5: Tobacco Use Prevention | J5: Housing | K5: Housing | L5: Housing | M5: 3 - Retention & Job Satisfaction: Enhance staffing retention and job satisfaction by implementing targeted initiatives and fostering a supportive work environment | N5: 3 - Facilitate targeted training opportunities for staff members to address gaps in meeting the Performance Standards Standards for Local Public Health. | O5: 3 - Staffing: Enhance staffing capacity for [Performance Standards Category & Subcategory] to effectively meet mandated inspectional requirements and enforce regulations in alignment with the Performance Standards for Local Public Health. | P5: Training: | S5: =S4+1 -> 3 | T5: =T4+1 -> 3 | V5: Assessment and Surveillance | W5: Business and Financial Operations Staff | X5: 40 | Z5: Strategic Planning Process | AB5: Per Diem | AC5: Nurse | AD5: BRPC | AF5: Workforce Diversity | AG5: Create a work culture of diversity, equity, inclusion, and belonging that values different viewpoints and lived experiences to improve employee satisfaction and retention. | AH5: 3- Maternal, Child and Family Health: Support caregivers and newborns
A6: Bristol Norfolk Public Health Partners | C6: Every 2 months | F6: Sharing services and resources across ALL member municipalities beyond what the grant funds. | G6: No; only PHE Grant funding | H6: Completed | J6: Title 5 | K6: Title 5 | L6: Title 5 | M6: 4 - Diversification of Funding: Explore opportunities to diversify funding sources to support public health services | N6: 4 - Disease Control and Prevention: Ensure adherence to infectious disease case investigation requirements, while enhancing staff training, capacity, and quality improvement initiatives | O6: 4 - Staffing: Consolidate multiple contracted services or expand current contracts to develop a larger scaled contract to provide needed services to other municipalities within the Shared Services Arrangement (SSA). | P6: Other: | S6: =S5+1 -> 4 | T6: =T5+1 -> 4 | V6: Chronic Disease and Injury Prevention | W6: Community Health Worker | X6: Other | AB6: Other | AC6: Epidemiologist | AD6: CMPHFTH | AF6: Community Engagement | AG6: Partner with community based and/or representative organizations to extend reach to historically under-resourced populations, with a focus on enhancing FPHS delivery capabilities. | AH6: 4- Chronic Disease and Injury Prevention: Blood Pressure Screening Vulnerable Populations
A7: CAPE Public Health Collaborative | C7: Quarterly | F7: We identify as a region or district. | J7: Nuisances | K7: Nuisances | L7: Nuisances | M7: 5 - Inventory Management: Establish an inventory management system to streamline procurement processes and accurately monitor all purchases | N7: 5 - Tobacco Use Prevention: Improve inspectional requirements and enforce regulations, in alignment with the Performance Standards | O7: 5 - Training: Identify areas for improvement in inspection processes within the SSA and provide targeted training to enhancing the effectiveness and consistency of inspections across all participating municipalities. | S7: =S6+1 -> 5 | T7: =T6+1 -> 5 | V7: Communicable Disease Control | W7: Environmental Health Worker | AC7: Other Public Health Staff | AD7: Franklin-Hampshire Public Health FTH | AF7: CLAS Standards | AG7: At MA DPH, CLAS Standards are used as Program Management Quality Improvement (PMQI) tool to advance health and racial equity, by collecting and analyzing data engaging community authentically, diversifying workforce to represent community as well as ensuring language access and meaningful two-way communication. | AH7: 5- Chronic Disease and Injury Prevention: Harm Reduction Prevention
A8: Central Massachusetts Regional Public Health Alliance | C8: Every 6 months | J8: Recreational Camps for Children | K8: Recreational Camps for Children | L8: Recreational Camps for Children | M8: 6 - Document Digitization: Assess current document storage methods and take steps towards transitioning to digitizing documents and improving electronic storage capabilities | O8: 6 - Training: Identify and procure targeted training opportunities for staff members to address gaps in meeting the Performance Standards within the SSA. | V8: Communications | W8: Epidemiologist/Statistician | AC8: Administrator/Clerk | AD8: MAPC 1 | AH8: 6- Emergency Preparedness and Response: Support Participating Municipalities in meeting PHEP BP1 objectives
A9: Central Pioneer Valley Health District | J9: Swimming Pools | K9: Swimming Pools | L9: Swimming Pools | M9: 7- Expanded Sharing of Services: Explore opportunities for expanded sharing of services | O9: 7 - Other: | V9: Community Partnership Development | W9: Health Educator | AC9: Consultant | AD9: MAPC 2 | AH9: 7- Education, Training, and Credentialing: Assess and plan for all staff to work towards meeting the Workforce Standards
A10: Charles River Public Health District | J10: Bathing Beaches | K10: Bathing Beaches | L10: Bathing Beaches | O10: 8 - Other: | V10: Environmental Public Health | W10: Information Systems Specialist | AD10: North Central & MetroWest FTH | AH10: 8- CLAS (Cultural and Linguistically Appropriate Services): Participate in trainings to learn about implementation of CLAS
A11: Charlton Coalition for Public Health | J11: Family Type Campgrounds | K11: Family Type Campgrounds | L11: Family Type Campgrounds | V11: Equity | W11: Laboratory Worker | AD11: Metro South Public Health Alliance FTH | AH11: 9- Assessment & Surveillance: Use data to inform public health programming to maximize health outcomes
A12: Cooperative Public Health District | J12: Landfills | K12: Landfills | L12: Landfills | V12: Maternal, Child and Family Health | W12: Licensed Practical or Vocational Nurse | AD12: Salem
A13: East Hampden Shared Public Health Services | J13: Lead Poisoning Prevention and Control | K13: Lead Poisoning Prevention and Control | L13: Lead Poisoning Prevention and Control | V13: Organizational Competencies | W13: Nursing Aide and Home Health Aide
A14: Eastern Essex Regional Public Health Coalition | J14: Solid Waste | K14: Solid Waste | L14: Solid Waste | V14: Policy Development and Support | W14: Nutritionist
A15: Essex County Tri-Town Shared Health Initiative | J15: Tanning | K15: Tanning | L15: Tanning | V15: Other | W15: Office and Administrative Support Staff
A16: Foothills Health District | J16: Transportation of Waste | K16: Transportation of Waste | L16: Transportation of Waste | W16: Oral Health Care Staff
A17: Great Meadows Public Health Collaborative | J17: Other | K17: Other | L17: Other | W17: Preparedness Staff
A18: Greater Boroughs Partnership for Health | W18: Public Health Physician
A19: Greater New Bedford Shared Services Alliance | W19: Public Information Professional
A20: Halifax Public Health Excellence Group | W20: Registered Nurse
A21: Hampshire Public Health Shared Services Collaborative | W21: Shared Services Coordinator
A22: Inter-Island Public Health Excellence Collaborative | W22: Other
A23: Leicester Regional Public Health Coalition
A24: Marshfield Public Health Excellence Grant Collaboration
A25: Metacomet Public Health Alliance
A26: Methuen/Lawrence
A27: Metro Public Health Collaborative
A28: MetroWest Shared Public Health Services
A29: Mill Towns Public Health Coalition
A30: Montachusett Public Health Network
A31: Mystic Valley Public Health Coalition
A32: Nashoba Associated Boards of Health
A33: Norfolk County 5 East
A34: Norfolk County-8 Local Public Health Coalition
... A53: Western Hampden County Public Health District

Sheet Instructions
A1: Public Health Excellence Shared Services Grant Program FY25 Workplan
A2: Instructions
B4: Workplan Completion
C5: Use the links below to navigate through the Workplan. The workbook has been set up to already include all required objectives for workplan completion (SSA Summary Information, SSA Staffing Information, 3 PHE Grant Requirements), at least 1 Sustainability Objective, 3 Performance Standards Objectives, and an Elective Objective tab that is NOT REQUIRED. If your SSA would like to add additional objectives for any of the objective groups, simply make a copy of the associated tab. • This can be done by "right-clicking" on an objective tab at the bottom of the sheet and choose "Move or copy" and then click the checkbox "Create a copy". • Similarly, if you need to add additional activities to better suit your SSAs work, you can do so by copying (highlingting the entire row) and pasting rows to the bottom of the worksheet.
B7: Descriptions of the Workplan Tabs
C8: 1 | D8: About | E8: This tab explains the structure of the FY25 Workplan, provides useful reference links, and resources.
C9: 2 | D9: Instructions | E9: This tab outlines how the workplan should be completed and links to all of the workplan tabs.
C10: 3 | D10: SSA Summary Information | E10: This tab requests responses to specific SSA information.
C11: 4 | D11: SSA Staffing Information | E11: This tab requests SSA staffing information for all PHE Grant funded staff and ALL Lead and Support staff assigned to activities in this workplan.
C12: 5 | D12: Grant Administration | E12: This tab has PHE Grant Requirement 1 pre-filled objective and activities. SSAs should fill in staff lead (and support, if needed) and anticipated start and end dates.
C13: 6 | D13: Governance | E13: This tab has PHE Grant Requirement 2 pre-filled objective and activities. SSAs should fill in staff lead (and support, if needed) and anticipated start and end dates.
C14: 7 | D14: FPHS Review | E14: This tab has PHE Grant Requirement 3 pre-filled objective and activities. SSAs should fill in staff lead (and support, if needed) and anticipated start and end dates.
C15: 8 | D15: Sustainability 1 | E15: This tab allows the SSA to choose 1 (1 of 2) Sustainability Objective from the Workplan Content Menu. SSAs should fill in activities, staffing, and start and end dates.
C16: 9 | D16: Sustainability 2 | E16: This tab allows the SSA to choose 1 (2 of 2) Sustainability Objective from the Workplan Content Menu. SSAs should fill in activities, staffing, and start and end dates.
C17: 10 | D17: Performance Standard 1 | E17: This tab allows the SSA to choose 1 (1 of 3) Performance Standard Objective form the Workplan Content Menu. SSAs should fill in activities, staffing, and start and end dates.
C18: 11 | D18: Performance Standard 2 | E18: This tab allows the SSA to choose 1 (2 of 3) Performance Standard Objective form the Workplan Content Menu. SSAs should fill in activities, staffing, and start and end dates.
C19: 12 | D19: Performance Standard 3 | E19: This tab allows the SSA to choose 1 (3 of 3) Performance Standard Objective form the Workplan Content Menu. SSAs should fill in activities, staffing, and start and end dates.
C20: 13 | D20: Elective 1 (Not Required) | E20: This tab allows the SSA to use the Workplan Content Menu or create their own Elective Objective. SSAs should fill in activities, staffing, and start and end dates.

Sheet Summary Info
A1: Public Health Excellence Shared Services Grant Program FY25 Workplan | H1: Click to Return to Instructions Tab
A2: Shared Services Arrangement Information
B3: Use the dropdown menus to the right of the questions below to complete the requested information for your Shared Services Arrangement.
C4: SSA Data Collection: This information aims to collect background information and the extent of collaboration and level of sharing within your SSA.
B6: SSA Data Collection
C7: SSA Name: | E7: Response required
C8: Lead Entity/Vendor Name
C9: Does your SSA have a fully executed unexpired IMA or equivalent? | E9: Response required
C10: How often does your SSA governance board meet? | E10: Response required
C11: Does any municipality in your SSA have an Inspectional Services Department (ISD)? | E11: Response required
C12: If "yes" to the question above, please provide a list of municipalities within your SSA that have an ISD.
C13: Please indicate your current level of sharing services among SSA member municipalities. | E13: Response required
C14: Please provide a list of all PHE funded staff who have MAVEN access. | E14: First Last | F14: First Last | G14: First Last | H14: First Last | I14: First Last
C15: Please provide a list of all PHE funded staff who have MIIS access. | E15: First Last | F15: First Last | G15: First Last | H15: First Last | I15: First Last
C16: Please list all PHE funded staff who are vaccinators (either through COLOR or another platform). | E16: First Last | F16: First Last | G16: First Last | H16: First Last | I16: First Last
C17: What is considered to be a Full Time Equivalent (FTE) in your host community? | E17: Response required
C18: Which training hub does your SSA belong to? | E18: Response required

Sheet Staffing Chart 
A1: Public Health Excellence Shared Services Grant Program FY25 Workplan | M1: Click to Return to Instructions Tab
A2: Shared Services Arrangement Staffing
B3: Fill in the chart with staffing information for your Shared Services Arrangement. Use the drop-down menus where they are available and fill in the rest of the information manually.
C4: PHE Grant Funded Staff: This section aims to get an understanding of PHE Grant funded staff in your SSA (at any level of funding).
C5: Lead and Support Workplan Staff: This information aims to get an understanding all the Lead and Support staff outlined in this workplan. Please include ALL staff that are listed as Lead and/or Support for all activities within this workplan.
B6: Additional Instructions:
C7: 1. Start Date: Enter the actual start date of the staff member, even if it is before the beginning of the fiscal year. 2. Role Changes: Any staff member who changes roles should be listed as a new staff member in a new row. 3. Open Positions: List any open job positions: • For open positions, leave the columns for start date, end date, "Is this staff paid by any other sources? (other than PHE Funds)", and "Which communities does this staff member serve?" blank. • Type ‘Open Position’ in the Staff Name column. 4. Budget Alignment: This staffing chart should match all funded positions in your budget. 5. Job Classification and Program Area: When filling out columns J (Job Classification) and K (Job Program Area), refer to the Staffing Chart Guidance via the Smartsheet PHE Resource List. This document provides guidance on how to accurately select Job Classification and Job Program Area. 6. Contact: If the person completing this form has any questions about Job Classification and Program Area, contact Cassandra Andersen at Cassandra.B.Andersen@mass.gov
B10: PHE Grant Funded Staff -- Please provide the following information for ALL PHE-Funded shared staff (at any level of funding) *including contractors
C11: Staff Name (First Last) | D11: Title | E11: Annual Salary | F11: Start Date | G11: End Date | H11: Average Hours/Week | I11: FTE | J11: Job Classification | K11: Job Program Area | L11: Budget Line Item Category | M11: Which municipality/ organization is this staff employed by? | N11: Is this staff paid by any other sources? (other than PHE Funds) | O11: Which communities does this staff member serve?
B12: Staff 1
B13: Staff 2
B14: Staff 3
B15: Staff 4
B16: Staff 5
B17: Staff 6
B18: Staff 7
B19: Staff 8
B20: Staff 9
B22: Lead and Support Workplan Staff -- Please provide the following information for ALL Lead and Support staff outlined in this workplan. | L22: =IF(COUNTIF(L12:L20, "Consultant") > 0, "For all Contracted Staff you must submit the FY25 Waiver Request Form", "")
C23: Staff Name | D23: Title | E23: Which municipality/ organization is this staff employed by? | L23: =IF(COUNTIF(L12:L20, "Other Public Health Staff") > 0, "For all Other Public Health Staff, you must submit a job description", "")
B24: Staff 1
B25: Staff 2
B26: Staff 3
B27: Staff 4
B28: Staff 5
B29: Staff 6
B30: Staff 7
B31: Staff 8
B32: Staff 9

Sheet Grant Administration
A1: Public Health Excellence Shared Services Grant Program FY25 Workplan | J1: Click to Return to Instructions Tab
A2: Instructions
C3: Overview | D3: The 3 PHE Grant Requirement objectives and associated activities are essential components mandated by the Public Health Excellence (PHE) Grant Program. They outline specific criteria and actions that grantees must fulfill to meet programmatic requirements and ensure alignment with grant goals.
C4: Directions | D4: These objectives and associated activities will be pre-filled and locked in the associated tabs in the Workplan for FY 25 completion (tabs PHE Grant Requirements 1, 2, and C3. Please fill in the following details: • Assign a Staff Lead (and Support Staff, if desired) • Enter Projected Start and Projected End Date for each activity • Update the Actual Start Date and Actual End Date as the activity progresses • Update any progress notes as needed in the Q1-Q4 Activity Progress Notes sections • Update the Q1-Q4 status according to the quarter with one of the following dropdown options: Not started, In progress, Stalled, Completed
C6: Objective # | D6: Objective Description
C7: PHE Grant Requirement 1 | D7: Grant Administration: Complete/perform all PHE Grant Program contractual requirements for the upcoming fiscal year
C9: Activity | D9: Activity Description | E9: Staff Lead Name (First Last) | F9: Support Staff Name (First Last) | G9: Start Date | H9: End Date | I9: Q1 Status | J9: Q2 Status | K9: Q3 Status | L9: Q4 Status
C10: A | D10: Attend monthly PHE Grantee meetings – ensure attendance of lead municipality and Shared Services Coordinator (SSC), or a designated alternate. | G10: 45474 | H10: 45838 | I10: Not started | J10: In progress | K10: Not started | L10: Not started
G11: Actual Start Date | H11: Actual End Date | I11: Add notes here | J11: Add notes here | K11: Add notes here | L11: Add notes here
C12: B | D12: Submit a list of Participating Municipalities to Program Coordinator by July 31st and notify Program Coordinator within 30 calendar days of a change in Participating Municipalities. | G12: Projected Start Date | H12: 45504 | I12: Not started | J12: In progress | K12: Not started | L12: Not started
G13: Actual Start Date | H13: Actual End Date | I13: Add notes here | J13: Add notes here | K13: Add notes here | L13: Add notes here
C14: C | D14: Maintain Letters of Commitment (LOC) from all Participating Municipalities in the SSA. | G14: 45474 | H14: 45838 | I14: Not started | J14: In progress | K14: Not started | L14: Not started
G15: Actual Start Date | H15: Actual End Date | I15: Add notes here | J15: Add notes here | K15: Add notes here | L15: Add notes here
C16: D | D16: Complete and submit PHE quarterly reports in collaboration with your Shared Services Coordinator and all municipalities within the SSA. | G16: 45474 | H16: 45473 | I16: Not started | J16: In progress | K16: Not started | L16: Not started
G17: Actual Start Date | H17: Actual End Date | I17: Add notes here | J17: Add notes here | K17: Add notes here | L17: Add notes here
C18: E | D18: Governing bodies established through the Intermunicipal Agreement (IMA), shall meet a minimum of once per quarter. | G18: 45474 | H18: 45473 | I18: Not started | J18: In progress | K18: Not started | L18: Not started
G19: Actual Start Date | H19: Actual End Date | I19: Add notes here | J19: Add notes here | K19: Add notes here | L19: Add notes here
C20: F | D20: Send annual notification to all Participating Municipalities no later than October 31st of each grant year. Such notification shall be substantially consistent with Attachment 1 of the PHE Engagement Scope in terms of required language and addressee list. Proof of notification shall be submitted to Program Coordinator no later than November 15th of each fiscal year. | G20: Projected Start Date | H20: 45976 | I20: Not started | J20: In progress | K20: Not started | L20: Not started
G21: Actual Start Date | H21: Actual End Date | I21: Add notes here | J21: Add notes here | K21: Add notes here | L21: Add notes here
C22: G | D22: Ensure that all Participating Municipalities maintain 100% continuous MAVEN coverage which means that each Participating Municipality has an active, designated MAVEN user and back-up user. | G22: Projected Start Date | H22: Projected End Date | I22: Not started | J22: In progress | K22: Not started | L22: Not started
G23: Actual Start Date | H23: Actual End Date | I23: Add notes here | J23: Add notes here | K23: Add notes here | L23: Add notes here

Sheet Governance
A1: Public Health Excellence Shared Services Grant Program FY25 Workplan | J1: Click to Return to Instructions Tab
A2: Instructions
C3: Overview | D3: The 3 PHE Grant Requirement objectives and associated activities are essential components mandated by the Public Health Excellence (PHE) Grant Program. They outline specific criteria and actions that grantees must fulfill to meet programmatic requirements and ensure alignment with grant goals.
C4: Directions | D4: These objectives and associated activities will be pre-filled and locked in the associated tabs in the Workplan for FY 25 completion (tabs PHE Grant Requirements 1, 2, and C3. Please fill in the following details: • Assign a Staff Lead (and Support Staff, if desired) • Enter Projected Start and Projected End Date for each activity • Update the Actual Start Date and Actual End Date as the activity progresses • Update any progress notes as needed in the Q1-Q4 Activity Progress Notes sections • Update the Q1-Q4 status according to the quarter with one of the following dropdown options: Not started, In progress, Stalled, Completed
C6: Objective # | D6: Objective Description
C7: PHE Grant Requirement 2 | D7: Governance: Execute and maintain IMA or equivalent
C8: Does your SSA have an existing IMA or eqivalent? | E8: Response Required
C10: {=IF($E$8="Yes", IFERROR(INDEX(Table_Yes, ROW(A1), COLUMN(A1)), ""), IF($E$8="No", IFERROR(INDEX(Table_No, ROW(A1), COLUMN(A1)), ""), ""))} | D10: {=IF($E$8="Yes", IFERROR(INDEX(Table_Yes, ROW(B1), COLUMN(B1)), ""), IF($E$8="No", IFERROR(INDEX(Table_No, ROW(B1), COLUMN(B1)), ""), ""))} | E10: {=IF($E$8="Yes", IFERROR(INDEX(Table_Yes, ROW(C1), COLUMN(C1)), ""), IF($E$8="No", IFERROR(INDEX(Table_No, ROW(C1), COLUMN(C1)), ""), ""))} | F10: {=IF($E$8="Yes", IFERROR(INDEX(Table_Yes, ROW(D1), COLUMN(D1)), ""), IF($E$8="No", IFERROR(INDEX(Table_No, ROW(D1), COLUMN(D1)), ""), ""))} | G10: {=IF($E$8="Yes", IFERROR(INDEX(Table_Yes, ROW(E1), COLUMN(E1)), ""), IF($E$8="No", IFERROR(INDEX(Table_No, ROW(E1), COLUMN(E1)), ""), ""))} | H10: {=IF($E$8="Yes", IFERROR(INDEX(Table_Yes, ROW(F1), COLUMN(F1)), ""), IF($E$8="No", IFERROR(INDEX(Table_No, ROW(F1), COLUMN(F1)), ""), ""))} | I10: {=IF($E$8="Yes", IFERROR(INDEX(Table_Yes, ROW(G1), COLUMN(G1)), ""), IF($E$8="No", IFERROR(INDEX(Table_No, ROW(G1), COLUMN(G1)), ""), ""))} | J10: {=IF($E$8="Yes", IFERROR(INDEX(Table_Yes, ROW(H1), COLUMN(H1)), ""), IF($E$8="No", IFERROR(INDEX(Table_No, ROW(H1), COLUMN(H1)), ""), ""))} | ... L10: {=IF($E$8="Yes", IFERROR(INDEX(Table_Yes, ROW(J1), COLUMN(J1)), ""), IF($E$8="No", IFERROR(INDEX(Table_No, ROW(J1), COLUMN(J1)), ""), ""))}
C11: {=IF($E$8="Yes", IFERROR(INDEX(Table_Yes, ROW(A2), COLUMN(A2)), ""), IF($E$8="No", IFERROR(INDEX(Table_No, ROW(A2), COLUMN(A2)), ""), ""))} | D11: {=IF($E$8="Yes", IFERROR(INDEX(Table_Yes, ROW(B2), COLUMN(B2)), ""), IF($E$8="No", IFERROR(INDEX(Table_No, ROW(B2), COLUMN(B2)), ""), ""))} | G11: Projected Start Date | H11: Projected End Date | I11: Not started | J11: In progress | K11: Not started | L11: Not started
C12: {=IF($E$8="Yes", IFERROR(INDEX(Table_Yes, ROW(A3), COLUMN(A3)), ""), IF($E$8="No", IFERROR(INDEX(Table_No, ROW(A3), COLUMN(A3)), ""), ""))} | D12: {=IF($E$8="Yes", IFERROR(INDEX(Table_Yes, ROW(B3), COLUMN(B3)), ""), IF($E$8="No", IFERROR(INDEX(Table_No, ROW(B3), COLUMN(B3)), ""), ""))} | G12: Actual Start Date | H12: Actual End Date | I12: Add notes here | J12: Add notes here | K12: Add notes here | L12: Add notes here
C13: {=IF($E$8="Yes", IFERROR(INDEX(Table_Yes, ROW(A4), COLUMN(A4)), ""), IF($E$8="No", IFERROR(INDEX(Table_No, ROW(A4), COLUMN(A4)), ""), ""))} | D13: {=IF($E$8="Yes", IFERROR(INDEX(Table_Yes, ROW(B4), COLUMN(B4)), ""), IF($E$8="No", IFERROR(INDEX(Table_No, ROW(B4), COLUMN(B4)), ""), ""))} | G13: Projected Start Date | H13: Projected End Date | I13: Not started | J13: In progress | K13: Not started | L13: Not started
C14: {=IF($E$8="Yes", IFERROR(INDEX(Table_Yes, ROW(A5), COLUMN(A5)), ""), IF($E$8="No", IFERROR(INDEX(Table_No, ROW(A5), COLUMN(A5)), ""), ""))} | G14: Actual Start Date | H14: Actual End Date | I14: Add notes here | J14: Add notes here | K14: Add notes here | L14: Add notes here
C15: {=IF($E$8="Yes", IFERROR(INDEX(Table_Yes, ROW(A6), COLUMN(A6)), ""), IF($E$8="No", IFERROR(INDEX(Table_No, ROW(A6), COLUMN(A6)), ""), ""))} | D15: {=IF($E$8="Yes", IFERROR(INDEX(Table_Yes, ROW(B6), COLUMN(B6)), ""), IF($E$8="No", IFERROR(INDEX(Table_No, ROW(B6), COLUMN(B6)), ""), ""))} | G15: Projected Start Date | H15: Projected End Date | I15: Not started | J15: In progress | K15: Not started | L15: Not started
C16: {=IF($E$8="Yes", IFERROR(INDEX(Table_Yes, ROW(A7), COLUMN(A7)), ""), IF($E$8="No", IFERROR(INDEX(Table_No, ROW(A7), COLUMN(A7)), ""), ""))} | D16: {=IF($E$8="Yes", IFERROR(INDEX(Table_Yes, ROW(B7), COLUMN(B7)), ""), IF($E$8="No", IFERROR(INDEX(Table_No, ROW(B7), COLUMN(B7)), ""), ""))} | G16: Actual Start Date | H16: Actual End Date | I16: Add notes here | J16: Add notes here | K16: Add notes here | L16: Add notes here
C17: {=IF($E$8="Yes", IFERROR(INDEX(Table_Yes, ROW(A8), COLUMN(A8)), ""), IF($E$8="No", IFERROR(INDEX(Table_No, ROW(A8), COLUMN(A8)), ""), ""))} | D17: {=IF($E$8="Yes", IFERROR(INDEX(Table_Yes, ROW(B8), COLUMN(B8)), ""), IF($E$8="No", IFERROR(INDEX(Table_No, ROW(B8), COLUMN(B8)), ""), ""))} | G17: Projected Start Date | H17: Projected End Date | I17: Not started | J17: In progress | K17: Not started | L17: Not started
C18: {=IF($E$8="Yes", IFERROR(INDEX(Table_Yes, ROW(A9), COLUMN(A9)), ""), IF($E$8="No", IFERROR(INDEX(Table_No, ROW(A9), COLUMN(A9)), ""), ""))} | D18: {=IF($E$8="Yes", IFERROR(INDEX(Table_Yes, ROW(B9), COLUMN(B9)), ""), IF($E$8="No", IFERROR(INDEX(Table_No, ROW(B9), COLUMN(B9)), ""), ""))} | G18: Actual Start Date | H18: Actual End Date | I18: Add notes here | J18: Add notes here | K18: Add notes here | L18: Add notes here
C19: {=IF($E$8="Yes", IFERROR(INDEX(Table_Yes, ROW(A10), COLUMN(A10)), ""), IF($E$8="No", IFERROR(INDEX(Table_No, ROW(A10), COLUMN(A10)), ""), ""))} | D19: {=IF($E$8="Yes", IFERROR(INDEX(Table_Yes, ROW(B10), COLUMN(B10)), ""), IF($E$8="No", IFERROR(INDEX(Table_No, ROW(B10), COLUMN(B10)), ""), ""))} | G19: Projected Start Date | H19: Projected End Date | I19: Not started | J19: In progress | K19: Not started | L19: Not started
C20: {=IF($E$8="Yes", IFERROR(INDEX(Table_Yes, ROW(A11), COLUMN(A11)), ""), IF($E$8="No", IFERROR(INDEX(Table_No, ROW(A11), COLUMN(A11)), ""), ""))} | D20: {=IF($E$8="Yes", IFERROR(INDEX(Table_Yes, ROW(B11), COLUMN(B11)), ""), IF($E$8="No", IFERROR(INDEX(Table_No, ROW(B11), COLUMN(B11)), ""), ""))} | G20: Actual Start Date | H20: Actual End Date | I20: Add notes here | J20: Add notes here | K20: Add notes here | L20: Add notes here
C21: {=IF($E$8="Yes", IFERROR(INDEX(Table_Yes, ROW(A12), COLUMN(A12)), ""), IF($E$8="No", IFERROR(INDEX(Table_No, ROW(A12), COLUMN(A12)), ""), ""))} | D21: {=IF($E$8="Yes", IFERROR(INDEX(Table_Yes, ROW(B12), COLUMN(B12)), ""), IF($E$8="No", IFERROR(INDEX(Table_No, ROW(B12), COLUMN(B12)), ""), ""))} | G21: Projected Start Date | H21: Projected End Date | I21: Not started | J21: In progress | K21: Not started | L21: Not started
C22: {=IF($E$8="Yes", IFERROR(INDEX(Table_Yes, ROW(A13), COLUMN(A13)), ""), IF($E$8="No", IFERROR(INDEX(Table_No, ROW(A13), COLUMN(A13)), ""), ""))} | D22: {=IF($E$8="Yes", IFERROR(INDEX(Table_Yes, ROW(B13), COLUMN(B13)), ""), IF($E$8="No", IFERROR(INDEX(Table_No, ROW(B13), COLUMN(B13)), ""), ""))} | G22: Actual Start Date | H22: Actual End Date | I22: Add notes here | J22: Add notes here | K22: Add notes here | L22: Add notes here
C23: {=IF($E$8="Yes", IFERROR(INDEX(Table_Yes, ROW(A14), COLUMN(A14)), ""), IF($E$8="No", IFERROR(INDEX(Table_No, ROW(A14), COLUMN(A14)), ""), ""))} | D23: {=IF($E$8="Yes", IFERROR(INDEX(Table_Yes, ROW(B14), COLUMN(B14)), ""), IF($E$8="No", IFERROR(INDEX(Table_No, ROW(B14), COLUMN(B14)), ""), ""))} | G23: Projected Start Date | H23: Projected End Date | I23: Not started | J23: In progress | K23: Not started | L23: Not started
C24: {=IF($E$8="Yes", IFERROR(INDEX(Table_Yes, ROW(A15), COLUMN(A15)), ""), IF($E$8="No", IFERROR(INDEX(Table_No, ROW(A15), COLUMN(A15)), ""), ""))} | D24: {=IF($E$8="Yes", IFERROR(INDEX(Table_Yes, ROW(B15), COLUMN(B15)), ""), IF($E$8="No", IFERROR(INDEX(Table_No, ROW(B15), COLUMN(B15)), ""), ""))} | G24: Actual Start Date | H24: Actual End Date | I24: Add notes here | J24: Add notes here | K24: Add notes here | L24: Add notes here

Sheet FPHS Review
A1: Public Health Excellence Shared Services Grant Program FY25 Workplan | J1: Click to Return to Instructions Tab
A2: Instructions
C3: Overview | D3: The 3 PHE Grant Requirement objectives and associated activities are essential components mandated by the Public Health Excellence (PHE) Grant Program. They outline specific criteria and actions that grantees must fulfill to meet programmatic requirements and ensure alignment with grant goals.
C4: Directions | D4: These objectives and associated activities will be pre-filled and locked in the associated tabs in the Workplan for FY 25 completion (tabs PHE Grant Requirements 1, 2, and C3. Please fill in the following details: • Assign a Staff Lead (and Support Staff, if desired) • Enter Projected Start and Projected End Date for each activity • Update the Actual Start Date and Actual End Date as the activity progresses • Update any progress notes as needed in the Q1-Q4 Activity Progress Notes sections • Update the Q1-Q4 status according to the quarter with one of the following dropdown options: Not started, In progress, Stalled, Completed
C6: Objective # | D6: Objective Description
C7: PHE Grant Requirement 2 | D7: FPHS Review: Participate in trainings, a capacity and expertise review (SSA-level), and cost reporting related to the Foundational Public Health Services (FPHS)
C9: Activity | D9: Activity Description | E9: Staff Lead Name (First Last) | F9: Support Staff Name (First Last) | G9: Start Date | H9: End Date | I9: Q1 Status | J9: Q2 Status | K9: Q3 Status | L9: Q4 Status
C10: A | D10: Attend Foundational Public Health Services (FPHS) Framework review trainings and technical assistance meetings, and gather necessary documents (e.g., municipal budgets). | G10: Projected Start Date | H10: Projected End Date | I10: Not started | J10: Not started | K10: Not started | L10: Not started
G11: Actual Start Date | H11: Actual End Date | I11: Add notes here | J11: Add notes here | K11: Add notes here | L11: Add notes here
C12: B | D12: Have your Shared Services Coordinator facilitate discussions with your SSA about capacity and expertise within the FPHS Foundational Areas and Foundational Capabilities to prepare for the capacity and expertise SSA-level review and cost reporting. | G12: Projected Start Date | H12: Projected End Date | I12: Not started | J12: Not started | K12: Not started | L12: Not started
G13: Actual Start Date | H13: Actual End Date | I13: Add notes here | J13: Add notes here | K13: Add notes here | L13: Add notes here
C14: C | D14: Complete the FPHS Shared Services Review collaboratively with your SSA (early 2025). | G14: Projected Start Date | H14: Projected End Date | I14: Not started | J14: Not started | K14: Not started | L14: Not started
G15: Actual Start Date | H15: Actual End Date | I15: Add notes here | J15: Add notes here | K15: Add notes here | L15: Add notes here

Sheet Governance Tables
A1: Activity | B1: Activity Description | C1: Staff Lead Name (First Last) | D1: Support Staff Name (First Last) | E1: Start Date | F1: End Date | G1: Q1 Status | H1: Q2 Status | I1: Q3 Status | J1: Q4 Status
A2: A | B2: Assess and update existing IMA for your SSA. | E2: Projected Start Date | F2: Projected Start Date | G2: Not started | H2: In progress | I2: Not started | J2: Not started
E3: Actual Start Date | F3: Actual End Date | G3: Add notes here | H3: Add notes here | I3: Add notes here | J3: Add notes here
A4: B | B4: Review SSA services and responsibilities planned for FY25. If these services and/or responsibilities are not covered in the existing IMA “Scope of Service” section or in an amendment to the IMA, request legal technical assistance (TA) or work with counsel to address. | E4: Projected Start Date | F4: Projected Start Date | G4: Not started | H4: In progress | I4: Not started | J4: Not started
E5: Actual Start Date | F5: Actual End Date | G5: Add notes here | H5: Add notes here | I5: Add notes here | J5: Add notes here
A6: C | B6: Review IMA expiration dates as well as annual review/assessment requirements. Perform required elements of IMA and request TA or work with counsel as needed to renew or amend. | E6: Projected Start Date | F6: Projected Start Date | G6: Not started | H6: In progress | I6: Not started | J6: Not started
E7: Actual Start Date | F7: Actual End Date | G7: Add notes here | H7: Add notes here | I7: Add notes here | J7: Add notes here
A8: D | B8: Submit revisions to the IMA Program Coordinator within 30 calendar days of full execution. | E8: Projected Start Date | F8: Projected Start Date | G8: Not started | H8: In progress | I8: Not started | J8: Not started
E9: Actual Start Date | F9: Actual End Date | G9: Add notes here | H9: Add notes here | I9: Add notes here | J9: Add notes here
A10: E | B10: Governing bodies established through the Intermunicipal Agreement (IMA), shall meet a minimum of once per quarter. | E10: Projected Start Date | F10: Projected Start Date | G10: Not started | H10: In progress | I10: Not started | J10: Not started
E11: Actual Start Date | F11: Actual End Date | G11: Add notes here | H11: Add notes here | I11: Add notes here | J11: Add notes here
A16: Activity | B16: Activity Description | C16: Staff Lead Name (First Last) | D16: Support Staff Name (First Last) | E16: Start Date | F16: End Date | G16: Q1 Status | H16: Q2 Status | I16: Q3 Status | J16: Q4 Status
A17: A | B17: If you haven’t already done so, Complete the Technical Assistance Request Form and select “IMA development” | E17: Projected Start Date | F17: Projected Start Date | G17: Not started | H17: In progress | I17: Not started | J17: Not started
E18: Actual Start Date | F18: Actual End Date | G18: Add notes here | H18: Add notes here | I18: Add notes here | J18: Add notes here
A19: B | B19: Working with Massachusetts Association of Health Boards (MAHB), draft IMA in accordance with PHE Engagement Scope. | E19: Projected Start Date | F19: Projected Start Date | G19: Not started | H19: In progress | I19: Not started | J19: Not started
E20: Actual Start Date | F20: Actual End Date | G20: Add notes here | H20: Add notes here | I20: Add notes here | J20: Add notes here
A21: C | B21: Circulate draft to Participating Municipalities and schedule a meeting to review and discuss. | E21: Projected Start Date | F21: Projected Start Date | G21: Not started | H21: In progress | I21: Not started | J21: Not started
E22: Actual Start Date | F22: Actual End Date | G22: Add notes here | H22: Add notes here | I22: Add notes here | J22: Add notes here
A23: D | B23: Working with MAHB, incorporate edits and revisions as needed. | E23: Projected Start Date | F23: Projected Start Date | G23: Not started | H23: In progress | I23: Not started | J23: Not started
E24: Actual Start Date | F24: Actual End Date | G24: Add notes here | H24: Add notes here | I24: Add notes here | J24: Add notes here
A25: E | B25: Request legal review by host municipality and subsequently legal review by Participating Municipalities in consultation with MAHB. | E25: Projected Start Date | F25: Projected Start Date | G25: Not started | H25: In progress | I25: Not started | J25: Not started
E26: Actual Start Date | F26: Actual End Date | G26: Add notes here | H26: Add notes here | I26: Add notes here | J26: Add notes here
A27: F | B27: Schedule Board of Health and Select Board meetings as necessary to approve and execute final version of IMA. Provide IMA in advance of meetings and ensure adequate representation at meeting to answer questions. | E27: Projected Start Date | F27: Projected Start Date | G27: Not started | H27: In progress | I27: Not started | J27: Not started
E28: Actual Start Date | F28: Actual End Date | G28: Add notes here | H28: Add notes here | I28: Add notes here | J28: Add notes here
A29: G | B29: Submit a fully executed IMA to Program Coordinator no later than October 31, 2024 | E29: Projected Start Date | F29: Projected Start Date | G29: Not started | H29: In progress | I29: Not started | J29: Not started
E30: Actual Start Date | F30: Actual End Date | G30: Add notes here | H30: Add notes here | I30: Add notes here | J30: Add notes here

Sheet Sustainability 1
A1: Public Health Excellence Shared Services Grant Program FY25 Workplan | K1: Click to Return to Instructions Tab
A2: Instructions
C3: Overview | D3: The Sustainability Objectives focus on initiatives aimed at ensuring the long-term viability and collaborative utilization of resources within SSAs. These objectives aim to foster resilience, efficiency, and equitable distribution of services among participating entities.
C4: Directions | D4: SSAs will choose at least 1 of the Sustainability Objectives to include in the workplan. SSAs will choose the an objetive from the dropdown menu and can decide whether they would like to use the activities associated with that objective from the Workplan Content Document (copy and paste) or edit them to be more specific to their needs. SSAs who opt to select 1 Sustainability objective should delete the Sustainability 2 tab or leave it blank. SSAs who opt to select more than 2 Sustainability objectives should duplicate the tab before filling in the table below. Please fill in the following details: • Determine whether the activity was selected from the Workplan Content Menu or if it is Custom o If the activity was selected from the Workplan Content Menu but was edited slightly, still select 'Workplan Content Menu' from the dropdown to reflect its origin • Assign a Staff Lead (and Support Staff, if desired) • Enter Projected Start and Projected End Date for each activity • Update the Actual Start Date and Actual End Date as the activity progresses • Update any progress notes as needed in the Q1-Q4 Activity Progress Notes sections • Update the Q1-Q4 status according to the quarter with one of the following dropdown options: Not started, In progress, Stalled, Completed
C6: Objective # | D6: Sustainability Objective 1 Description
C7: Sustainability 1 | D7: Choose Sustainability Objective from Dropdown
C9: Activity | D9: Activity Description | E9: Is this activity selected from the Workplan Menu or is it custom? | F9: Staff Lead Name & Title | G9: Support Staff Name & Title | H9: Start Date | I9: End Date | J9: Q1 Status | K9: Q2 Status | L9: Q3 Status | M9: Q4 Status
C10: A | E10: Response Required | H10: Projected Start Date | I10: Projected End Date | J10: Not started | K10: Not started | L10: Not started | M10: Not started
H11: Actual Start Date | I11: Actual End Date | J11: Add notes here | K11: Add notes here | L11: Add notes here | M11: Add notes here
C12: B | E12: Response Required | H12: Projected Start Date | I12: Projected End Date | J12: Not started | K12: Not started | L12: Not started | M12: Not started
H13: Actual Start Date | I13: Actual End Date | J13: Add notes here | K13: Add notes here | L13: Add notes here | M13: Add notes here
